BEGIN:VCALENDAR
VERSION:2.0
PRODID:-//ChamberMaster//Event Calendar 2.0//EN
METHOD:PUBLISH
X-PUBLISHED-TTL:P3D
REFRESH-INTERVAL:P3D
CALSCALE:GREGORIAN
BEGIN:VEVENT
DTSTART;VALUE=DATE:20240412
DTEND;VALUE=DATE:20240413
TRANSP:TRANSPARENT
X-MICROSOFT-CDO-ALLDAYEVENT:TRUE
SUMMARY:14th Street Community Center - Casino Night
DESCRIPTION:Casino Night at the Center 7pm - 11pm 1222 14th Street\, Games of Chance: Texas Hold'em\, Blackjack\, Money Wheel\, Pull Tabs\, Raffles Entertainment provided by DJ Drew Carter. Admission and Raffle tickets can be purchased in advance at the Center. Admission includes snack and popcorn.
X-ALT-DESC;FMTTYPE=text/html:Casino Night at the Center 7pm - 11pm 1222 14th Street\, Games of Chance: Texas Hold&#39\;em\, Blackjack\, Money Wheel\, Pull Tabs\, Raffles Entertainment provided by DJ Drew Carter. Admission and Raffle tickets can be purchased in advance at the Center. Admission includes snack and popcorn.
LOCATION:
UID:e.3589.2297
SEQUENCE:3
DTSTAMP:20260425T130824Z
URL:https://business.portsmouth.org/events/details/14th-street-community-center-casino-night-2297
END:VEVENT

END:VCALENDAR
