BEGIN:VCALENDAR
VERSION:2.0
PRODID:-//ChamberMaster//Event Calendar 2.0//EN
METHOD:PUBLISH
X-PUBLISHED-TTL:P3D
REFRESH-INTERVAL:P3D
CALSCALE:GREGORIAN
BEGIN:VEVENT
DTSTART;VALUE=DATE:20241006
DTEND;VALUE=DATE:20241007
TRANSP:TRANSPARENT
X-MICROSOFT-CDO-ALLDAYEVENT:TRUE
SUMMARY:1st Annual BBQ Brawl
DESCRIPTION:Experience some of the best BBQ food trucks in Southern Ohio.
X-ALT-DESC;FMTTYPE=text/html:Experience some of the best BBQ food trucks in Southern Ohio.
LOCATION:Valley Wholesale Foods Market Street Portsmouth\, Oh
UID:e.3589.2943
SEQUENCE:3
DTSTAMP:20260421T204525Z
URL:https://business.portsmouth.org/events/details/1st-annual-bbq-brawl-2943
END:VEVENT

END:VCALENDAR
