BEGIN:VCALENDAR
VERSION:2.0
PRODID:-//ChamberMaster//Event Calendar 2.0//EN
METHOD:PUBLISH
X-PUBLISHED-TTL:P3D
REFRESH-INTERVAL:P3D
CALSCALE:GREGORIAN
BEGIN:VEVENT
DTSTART:20200314T120000Z
DTEND:20200314T140000Z
X-MICROSOFT-CDO-ALLDAYEVENT:FALSE
SUMMARY:2020 Shamrock Shuffle
DESCRIPTION:The 8th Annual St. Patrick's Day Shamrock Shuffle is a 5k race (3.1 miles) on flat terrain through the downtown and historic Boneyfiddle districts of Portsmouth\, Ohio. All proceeds from the race benefit the Community Action Organization of Scioto County Backpack program.
X-ALT-DESC;FMTTYPE=text/html:The 8th Annual St. Patrick&#39\;s Day Shamrock Shuffle is a 5k race (3.1 miles) on flat terrain through the downtown and historic Boneyfiddle districts of Portsmouth\, Ohio. All proceeds from the race benefit the Community Action Organization of Scioto County Backpack program.
LOCATION:Scioto County Welcome Center 342 - 2nd Street\, Portsmouth\, OH 45662
UID:e.3589.92
SEQUENCE:3
DTSTAMP:20260422T134928Z
URL:https://business.portsmouth.org/events/details/2020-shamrock-shuffle-92
END:VEVENT

END:VCALENDAR
