BEGIN:VCALENDAR
VERSION:2.0
PRODID:-//ChamberMaster//Event Calendar 2.0//EN
METHOD:PUBLISH
X-PUBLISHED-TTL:P3D
REFRESH-INTERVAL:P3D
CALSCALE:GREGORIAN
BEGIN:VEVENT
DTSTART:20200214T003000Z
DTEND:20200214T023000Z
X-MICROSOFT-CDO-ALLDAYEVENT:FALSE
SUMMARY:3 red Neck Tenors
DESCRIPTION:3 Redneck Tenors  - Classically trained\, the 3 Redneck Tenors have a great many stories to tell and will take their audience on a sidesplitting ride of comedy\, music and audience interaction. Spend your evening wowed by veteran singers through a smorgasbord of songs ranging from gospel\, country\, Broadway\, pop and classical. Based in Dallas\, Texas\, the group is a mixture of down home laughs with big city music. Tickets are available through the McKinley Box Office\, 10 a.m. to 5 p.m.\, Monday through Friday. For more information or questions\, please contact the box office at 740.351.3600 or go online to www.vrcfa.com.
X-ALT-DESC;FMTTYPE=text/html:<strong>3 Redneck Tenors&nbsp\; -&nbsp\;</strong>Classically trained\, the 3 Redneck Tenors have a great many stories to tell and will take their audience on a sidesplitting ride of comedy\, music and audience interaction. Spend your evening wowed by veteran singers through a smorgasbord of songs ranging from gospel\, country\, Broadway\, pop and classical. Based in Dallas\, Texas\, the group is a mixture of down home laughs with big city music. Tickets are available through the McKinley Box Office\, 10 a.m. to 5 p.m.\, Monday through Friday. For more information or questions\, please contact the box office at 740.351.3600 or go online to www.vrcfa.com.
LOCATION:Vern Riffe Center for the Arts
UID:e.3589.7
SEQUENCE:3
DTSTAMP:20260422T153304Z
URL:https://business.portsmouth.org/events/details/3-red-neck-tenors-7
END:VEVENT

END:VCALENDAR
