BEGIN:VCALENDAR
VERSION:2.0
PRODID:-//ChamberMaster//Event Calendar 2.0//EN
METHOD:PUBLISH
X-PUBLISHED-TTL:P3D
REFRESH-INTERVAL:P3D
CALSCALE:GREGORIAN
BEGIN:VEVENT
DTSTART;VALUE=DATE:20240615
DTEND;VALUE=DATE:20240616
TRANSP:TRANSPARENT
X-MICROSOFT-CDO-ALLDAYEVENT:TRUE
SUMMARY:3rd Annual Food Truck & Vendor Festival
DESCRIPTION:107.5 The Breeze will play music and cover the event. \n\nFor more information contact: Craig Rayburn 740-464-1628 or Randell Caldwell 740-285-8002
X-ALT-DESC;FMTTYPE=text/html:107.5 The Breeze will play music and cover the event.&nbsp\;<br />\nFor more information contact: Craig Rayburn 740-464-1628 or Randell Caldwell 740-285-8002
LOCATION:Western Sun Masonic Lodge #9 in Wheelersburg
UID:e.3589.2416
SEQUENCE:3
DTSTAMP:20260425T104616Z
URL:https://business.portsmouth.org/events/details/3rd-annual-food-truck-vendor-festival-2416
END:VEVENT

END:VCALENDAR
