BEGIN:VCALENDAR
VERSION:2.0
PRODID:-//ChamberMaster//Event Calendar 2.0//EN
METHOD:PUBLISH
X-PUBLISHED-TTL:P3D
REFRESH-INTERVAL:P3D
CALSCALE:GREGORIAN
BEGIN:VEVENT
DTSTART;VALUE=DATE:20221013
DTEND;VALUE=DATE:20221016
TRANSP:TRANSPARENT
X-MICROSOFT-CDO-ALLDAYEVENT:TRUE
SUMMARY:43rd ANNUAL DIRT TRACK WORLD CHAMPIONSHIP
DESCRIPTION:43rd ANNUAL DIRT TRACK WORLD CHAMPIONSHIP\n\n\nPortsmouth Raceway Park in Portsmouth\, Ohio\, is 1 mile West of Portsmouth off Rt. 52 & 73/104. It is a 3/8 mile clay high banked track with seating for over 5\,000 spectators with additional seating of 300 in the pit area. \n\n \n\n\n\nGo to http://www.portsraceway.com/ for more information!\n\n\n\nEmail the track at portsraceway@hotmail.com
X-ALT-DESC;FMTTYPE=text/html:<div class="kvgmc6g5 cxmmr5t8 oygrvhab hcukyx3x c1et5uql" style="overflow-wrap: break-word\; margin: 0px\; font-family: &quot\;Segoe UI Historic&quot\;\, &quot\;Segoe UI&quot\;\, Helvetica\, Arial\, sans-serif\; color: rgb(5\, 5\, 5)\; background-color: rgb(255\, 255\, 255)\; animation-name: none !important\; transition-property: none !important\;">\n<div dir="auto" style="font-family: inherit\; animation-name: none !important\; transition-property: none !important\;">\n<h4 style="margin: 0px 0px 5px\; padding: 0px\; border: 0px\; outline: 0px\; font-family: Tahoma\; vertical-align: baseline\; font-size: 12px\; color: rgb(2\, 2\, 2)\; background-color: rgb(255\, 255\, 255)\;"><strong><span style="color:#FF0000\;"><span style="font-size:22px\;">43rd ANNUAL DIRT TRACK WORLD CHAMPIONSHIP</span></span></strong></h4>\n<br />\n<span style="font-size: 18px\;"><span style="font-family:arial\;">Portsmouth Raceway Park in Portsmouth\, Ohio\, is 1 mile West of Portsmouth off Rt. 52 &amp\; 73/104. It is a 3/8 mile clay high banked track with seating for over 5\,000 spectators with additional seating of 300 in the pit area.&nbsp\;</span></span><br />\n&nbsp\;</div>\n</div>\n\n<div class="o9v6fnle cxmmr5t8 oygrvhab hcukyx3x c1et5uql" style="overflow-wrap: break-word\; margin: 0.5em 0px 0px\; font-family: &quot\;Segoe UI Historic&quot\;\, &quot\;Segoe UI&quot\;\, Helvetica\, Arial\, sans-serif\; color: rgb(5\, 5\, 5)\; font-size: 15px\; background-color: rgb(255\, 255\, 255)\; animation-name: none !important\; transition-property: none !important\;">\n<div dir="auto" style="font-family: inherit\; animation-name: none !important\; transition-property: none !important\;"><span style="font-size:18px\;"><span style="font-family:arial\;">Go to http://www.portsraceway.com/ for more information!</span></span><br />\n<br />\n<span style="font-size:20px\;">Email the track at&nbsp\;<a class="oajrlxb2 g5ia77u1 qu0x051f esr5mh6w e9989ue4 r7d6kgcz rq0escxv nhd2j8a9 nc684nl6 p7hjln8o kvgmc6g5 cxmmr5t8 oygrvhab hcukyx3x jb3vyjys rz4wbd8a qt6c0cv9 a8nywdso i1ao9s8h esuyzwwr f1sip0of lzcic4wl py34i1dx gpro0wi8" href="mailto:portsraceway@hotmail.com" role="link" style="cursor: pointer\; text-decoration-line: none\; outline: none\; list-style: none\; border-width: 0px\; border-style: initial\; border-color: initial\; padding: 0px\; margin: 0px\; touch-action: manipulation\; background-color: rgb(255\, 255\, 255)\; display: inline\; -webkit-tap-highlight-color: transparent\; box-sizing: border-box\; font-family: &quot\;Segoe UI Historic&quot\;\, &quot\;Segoe UI&quot\;\, Helvetica\, Arial\, sans-serif\; font-size: 15px\; animation-name: none !important\; transition-property: none !important\;" tabindex="0" target="_blank">portsraceway@hotmail.com</a></span></div>\n</div>\n
LOCATION:
UID:e.3589.295
SEQUENCE:3
DTSTAMP:20260425T021352Z
URL:https://business.portsmouth.org/events/details/43rd-annual-dirt-track-world-championship-295
END:VEVENT

END:VCALENDAR
