BEGIN:VCALENDAR
VERSION:2.0
PRODID:-//ChamberMaster//Event Calendar 2.0//EN
METHOD:PUBLISH
X-PUBLISHED-TTL:P3D
REFRESH-INTERVAL:P3D
CALSCALE:GREGORIAN
BEGIN:VEVENT
DTSTART:20210508T150000Z
DTEND:20210508T163000Z
X-MICROSOFT-CDO-ALLDAYEVENT:FALSE
SUMMARY:A CRITTER ENCOUNTER
DESCRIPTION:A CRITTER ENCOUNTER\n\n At Second Presbyterian Church (801 Waller St) on Sat\, May 8 (11:00am-12:30pm)!\n\nAdmission is only $1! (2 & under free)\n\nA fundraiser to benefit the Animal Welfare League of Scioto County.\n\nFeaturing BARKer Farm\, Reptile Adventures\, a PPD K9 officer and handler\, and more!\n\nThis outdoor\, socially-distant\, COVID-friendly event will be a personal and educational event with animals\, food vendors\, and cat and dog themed giveaways!\n\nQuestions? Contact Second Pres:\n\n740-353-4159\n\nsecondpres@yahoo.com
X-ALT-DESC;FMTTYPE=text/html:<div class="kvgmc6g5 cxmmr5t8 oygrvhab hcukyx3x c1et5uql" style="overflow-wrap: break-word\; margin: 0px\; font-family: &quot\;Segoe UI Historic&quot\;\, &quot\;Segoe UI&quot\;\, Helvetica\, Arial\, sans-serif\; color: rgb(5\, 5\, 5)\; font-size: 15px\; background-color: rgb(255\, 255\, 255)\; animation-name: none !important\; transition-property: none !important\;"><span style="font-size:26px\;"><strong>A CRITTER ENCOUNTER</strong></span><br />\n&nbsp\;At Second Presbyterian Church&nbsp\;(801 Waller St) on Sat\, May 8 (11:00am-12:30pm)!</div>\n\n<div class="o9v6fnle cxmmr5t8 oygrvhab hcukyx3x c1et5uql" style="overflow-wrap: break-word\; margin: 0.5em 0px 0px\; font-family: &quot\;Segoe UI Historic&quot\;\, &quot\;Segoe UI&quot\;\, Helvetica\, Arial\, sans-serif\; color: rgb(5\, 5\, 5)\; font-size: 15px\; background-color: rgb(255\, 255\, 255)\; animation-name: none !important\; transition-property: none !important\;">Admission is only $1! (2 &amp\; under free)</div>\n\n<div class="o9v6fnle cxmmr5t8 oygrvhab hcukyx3x c1et5uql" style="overflow-wrap: break-word\; margin: 0.5em 0px 0px\; font-family: &quot\;Segoe UI Historic&quot\;\, &quot\;Segoe UI&quot\;\, Helvetica\, Arial\, sans-serif\; color: rgb(5\, 5\, 5)\; font-size: 15px\; background-color: rgb(255\, 255\, 255)\; animation-name: none !important\; transition-property: none !important\;">A fundraiser to benefit the Animal Welfare League of Scioto County.</div>\n\n<div class="o9v6fnle cxmmr5t8 oygrvhab hcukyx3x c1et5uql" style="overflow-wrap: break-word\; margin: 0.5em 0px 0px\; font-family: &quot\;Segoe UI Historic&quot\;\, &quot\;Segoe UI&quot\;\, Helvetica\, Arial\, sans-serif\; color: rgb(5\, 5\, 5)\; font-size: 15px\; background-color: rgb(255\, 255\, 255)\; animation-name: none !important\; transition-property: none !important\;">Featuring BARKer Farm\, Reptile Adventures\, a PPD K9 officer and handler\, and more!</div>\n\n<div class="o9v6fnle cxmmr5t8 oygrvhab hcukyx3x c1et5uql" style="overflow-wrap: break-word\; margin: 0.5em 0px 0px\; font-family: &quot\;Segoe UI Historic&quot\;\, &quot\;Segoe UI&quot\;\, Helvetica\, Arial\, sans-serif\; color: rgb(5\, 5\, 5)\; font-size: 15px\; background-color: rgb(255\, 255\, 255)\; animation-name: none !important\; transition-property: none !important\;">This outdoor\, socially-distant\, COVID-friendly event will be a personal and educational event with animals\, food vendors\, and cat and dog themed giveaways!</div>\n\n<div class="o9v6fnle cxmmr5t8 oygrvhab hcukyx3x c1et5uql" style="overflow-wrap: break-word\; margin: 0.5em 0px 0px\; font-family: &quot\;Segoe UI Historic&quot\;\, &quot\;Segoe UI&quot\;\, Helvetica\, Arial\, sans-serif\; color: rgb(5\, 5\, 5)\; font-size: 15px\; background-color: rgb(255\, 255\, 255)\; animation-name: none !important\; transition-property: none !important\;">Questions? Contact Second Pres:<br style="animation-name: none !important\; transition-property: none !important\;" />\n740-353-4159<br style="animation-name: none !important\; transition-property: none !important\;" />\nsecondpres@yahoo.com</div>\n
LOCATION:
UID:e.3589.201
SEQUENCE:3
DTSTAMP:20260419T201541Z
URL:https://business.portsmouth.org/events/details/a-critter-encounter-201
END:VEVENT

END:VCALENDAR
