BEGIN:VCALENDAR
VERSION:2.0
PRODID:-//ChamberMaster//Event Calendar 2.0//EN
METHOD:PUBLISH
X-PUBLISHED-TTL:P3D
REFRESH-INTERVAL:P3D
CALSCALE:GREGORIAN
BEGIN:VEVENT
DTSTART;VALUE=DATE:20220615
DTEND;VALUE=DATE:20220616
TRANSP:TRANSPARENT
X-MICROSOFT-CDO-ALLDAYEVENT:TRUE
SUMMARY:AbbaFab
DESCRIPTION:June 15th   AbbaFab - A stunning tribute to the music of ABBA at the Vern Riffe Center for the Arts.  This multimedia production is a tribute to some of the greatest music produced in the 1970s and 1980s\, including such hits as "Waterloo\," "Fernando\," "Honey Honey\," and "Dancing Queen." Contact the McKinley Box Office for seating and ticket information at 740-351-3600 or info@vrcfa.com.
X-ALT-DESC;FMTTYPE=text/html:<span style="font-size:22px\;"><strong>June 15<sup>th</sup> &ndash\; AbbaFab - </strong>A stunning tribute to the music of ABBA at the Vern Riffe Center for the Arts.&nbsp\; This multimedia production is a tribute to some of the greatest music produced in the 1970s and 1980s\, including such hits as &ldquo\;Waterloo\,&rdquo\; &ldquo\;Fernando\,&rdquo\; &ldquo\;Honey Honey\,&rdquo\; and &ldquo\;Dancing Queen.&rdquo\; Contact the McKinley Box Office for seating and ticket information at 740-351-3600 or info@vrcfa.com.</span><br />\n&nbsp\;
LOCATION:
UID:e.3589.405
SEQUENCE:3
DTSTAMP:20260423T220158Z
URL:https://business.portsmouth.org/events/details/abbafab-405
END:VEVENT

END:VCALENDAR
