BEGIN:VCALENDAR
VERSION:2.0
PRODID:-//ChamberMaster//Event Calendar 2.0//EN
METHOD:PUBLISH
X-PUBLISHED-TTL:P3D
REFRESH-INTERVAL:P3D
CALSCALE:GREGORIAN
BEGIN:VEVENT
DTSTART;VALUE=DATE:20240629
DTEND;VALUE=DATE:20240630
TRANSP:TRANSPARENT
X-MICROSOFT-CDO-ALLDAYEVENT:TRUE
SUMMARY:American Legion Golf Outing
DESCRIPTION:at the Elks Country Club registration at 8am. $75.00 per golfer\, $300.00 per team\, Big Daddy's BBQ
X-ALT-DESC;FMTTYPE=text/html:at the Elks Country Club registration at 8am. $75.00 per golfer\, $300.00 per team\, Big Daddy&#39\;s BBQ
LOCATION:
UID:e.3589.2370
SEQUENCE:3
DTSTAMP:20260425T182154Z
URL:https://business.portsmouth.org/events/details/american-legion-golf-outing-2370
END:VEVENT

END:VCALENDAR
