BEGIN:VCALENDAR
VERSION:2.0
PRODID:-//ChamberMaster//Event Calendar 2.0//EN
METHOD:PUBLISH
X-PUBLISHED-TTL:P3D
REFRESH-INTERVAL:P3D
CALSCALE:GREGORIAN
BEGIN:VEVENT
DTSTART;VALUE=DATE:20241107
DTEND;VALUE=DATE:20241108
TRANSP:TRANSPARENT
X-MICROSOFT-CDO-ALLDAYEVENT:TRUE
SUMMARY:Annual Veterans Recognition Day
DESCRIPTION:Annual Veterans Recognition Day! Displays at 10:00am Free lunch for veterans at Noon
X-ALT-DESC;FMTTYPE=text/html:Annual Veterans Recognition Day! Displays at 10:00am Free lunch for veterans at Noon
LOCATION:Morris University Center
UID:e.3589.2976
SEQUENCE:3
DTSTAMP:20260421T204525Z
URL:https://business.portsmouth.org/events/details/annual-veterans-recognition-day-2976
END:VEVENT

END:VCALENDAR
