BEGIN:VCALENDAR
VERSION:2.0
PRODID:-//ChamberMaster//Event Calendar 2.0//EN
METHOD:PUBLISH
X-PUBLISHED-TTL:P3D
REFRESH-INTERVAL:P3D
CALSCALE:GREGORIAN
BEGIN:VEVENT
DTSTART;VALUE=DATE:20250315
DTEND;VALUE=DATE:20250316
TRANSP:TRANSPARENT
X-MICROSOFT-CDO-ALLDAYEVENT:TRUE
SUMMARY:Apple Grafting Workshop - Session 1
DESCRIPTION:Fifth generation farm\, selling apples\, jams\, jellies\, apple butter and fresh cider.
X-ALT-DESC;FMTTYPE=text/html:Fifth generation farm\, selling apples\, jams\, jellies\, apple butter and fresh cider.
LOCATION:Hooples Fruit Farm 2420 Mount Hope Rd. Otway\, Oh 45657
UID:e.3589.3007
SEQUENCE:3
DTSTAMP:20260421T091727Z
URL:https://business.portsmouth.org/events/details/apple-grafting-workshop-session-1-3007
END:VEVENT

END:VCALENDAR
