BEGIN:VCALENDAR
VERSION:2.0
PRODID:-//ChamberMaster//Event Calendar 2.0//EN
METHOD:PUBLISH
X-PUBLISHED-TTL:P3D
REFRESH-INTERVAL:P3D
CALSCALE:GREGORIAN
BEGIN:VEVENT
DTSTART:20210424T140000Z
DTEND:20210424T160000Z
X-MICROSOFT-CDO-ALLDAYEVENT:FALSE
SUMMARY:Arbor Day Celebration
DESCRIPTION:Celebrate Trees\, Spring\, and Growing Food in our Community!\n\n \n\nPortsmouth Community Arbor Day Celebration \n\nFrom 10 am to noon\n\n\n\nYouth Serve Day\n\nBannon Park from noon - 4pm\n\nBannon Park is located at 15th and Robinson Avenues in Portsmouth\n\n\n\nHelp plan trees!\n\nBuild gardens to feed people!\n\nGet free trees!\n\n\n\nContact:\n\nCity Tree Celebration: Sue Burke sueburke57@gmail.com\n\nFree Tree Giveaway/SSU: Logan Minter lminter@shawnee.edu\n\nYouth Serve Day/ WMGO: Amanda Lewis watchmegrowohio@gmail.com
X-ALT-DESC;FMTTYPE=text/html:<p><br />\n<span style="box-sizing: border-box\; font-weight: bolder\; outline: 0px\; color: rgb(0\, 153\, 51)\; font-family: &quot\;Noto Sans&quot\;\, sans-serif\; font-size: 18px\; background-color: rgb(255\, 255\, 255)\;"><span style="box-sizing: border-box\; outline: 0px\; font-size: 24px\;">Celebrate Trees\, Spring\, and Growing Food in our Community!</span></span><br />\n&nbsp\;</p>\n\n<p><span style="color:#009933\;"><span style="font-size:18px\;"><strong>Portsmouth Community Arbor Day Celebration</strong>&nbsp\;</span></span><br />\n<span style="font-size:18px\;">From 10 am to noon</span><br />\n<br />\n<span style="font-size:18px\;"><strong><span style="color:#009933\;">Youth Serve Day</span></strong></span><br />\n<span style="font-size:18px\;">Bannon Park from noon - 4pm<br />\nBannon Park is located at 15th and Robinson Avenues in Portsmouth</span><br />\n<br />\n<span style="font-size:16px\;"><strong><em>Help plan trees!<br />\nBuild gardens to feed people!<br />\nGet free trees!</em></strong></span><br />\n<br />\nContact:<br />\nCity Tree Celebration: Sue Burke <a href="mailto:sueburke57@gmail.com">sueburke57@gmail.com</a><br />\nFree Tree Giveaway/SSU: Logan Minter<a href="mailto:lminter@shawnee.edu"> lminter@shawnee.edu</a><br />\nYouth Serve Day/ WMGO: Amanda Lewis <a href="mailto:watchmegrowohio@gmail.com">watchmegrowohio@gmail.com</a></p>\n
LOCATION:
UID:e.3589.191
SEQUENCE:3
DTSTAMP:20260419T215815Z
URL:https://business.portsmouth.org/events/details/arbor-day-celebration-191
END:VEVENT

END:VCALENDAR
