BEGIN:VCALENDAR
VERSION:2.0
PRODID:-//ChamberMaster//Event Calendar 2.0//EN
METHOD:PUBLISH
X-PUBLISHED-TTL:P3D
REFRESH-INTERVAL:P3D
CALSCALE:GREGORIAN
BEGIN:VEVENT
DTSTART;VALUE=DATE:20241012
DTEND;VALUE=DATE:20241013
TRANSP:TRANSPARENT
X-MICROSOFT-CDO-ALLDAYEVENT:TRUE
SUMMARY:Art Walk 10/12/24
DESCRIPTION:Art Walk 10/12/24 - 1-5pm at the Esplanade on Chillicothe St. Portsmouth\, featuring music\, artists\, art making and live performances. For more info: jenna@somacc.com or call 740-354-5629
X-ALT-DESC;FMTTYPE=text/html:Art Walk 10/12/24 - 1-5pm at the Esplanade on Chillicothe St. Portsmouth\, featuring music\, artists\, art making and live performances. For more info: jenna@somacc.com or call 740-354-5629
LOCATION:
UID:e.3589.2321
SEQUENCE:3
DTSTAMP:20260421T204657Z
URL:https://business.portsmouth.org/events/details/art-walk-10-12-24-2321
END:VEVENT

END:VCALENDAR
