BEGIN:VCALENDAR
VERSION:2.0
PRODID:-//ChamberMaster//Event Calendar 2.0//EN
METHOD:PUBLISH
X-PUBLISHED-TTL:P3D
REFRESH-INTERVAL:P3D
CALSCALE:GREGORIAN
BEGIN:VEVENT
DTSTART;VALUE=DATE:20240915
DTEND;VALUE=DATE:20240916
TRANSP:TRANSPARENT
X-MICROSOFT-CDO-ALLDAYEVENT:TRUE
SUMMARY:Battle of the Paddles Pickleball Tournament
DESCRIPTION:Mound Park Pickleball Club's Memorial Tournament. Proceeds benefit the SOMC Cancer Compassion Fund. Registration: $45.00 per player and bracket software fee $5 - warm up at 7:30am 8:00 start time. Men and Women's doubles\; single elimination final. T-shirts are available for purchase $25.00 will be distributed at check in the day of the event. Facebook\; Mound Park Pickleball
X-ALT-DESC;FMTTYPE=text/html:<span style="font-family:times new roman\,serif\;"><span style="font-size:12.0pt\;">Mound Park Pickleball Club&rsquo\;s Memorial Tournament. Proceeds benefit the SOMC Cancer Compassion Fund. Registration: $45.00 per player and bracket software fee $5 - warm up at 7:30am 8:00 start time. Men and Women&rsquo\;s doubles\; single elimination final. T-shirts are available for purchase $25.00 will be distributed at check in the day of the event. Facebook\; Mound Park Pickleball</span></span>
LOCATION:17th Street - Mound Park Courts
UID:e.3589.2490
SEQUENCE:3
DTSTAMP:20260423T144241Z
URL:https://business.portsmouth.org/events/details/battle-of-the-paddles-pickleball-tournament-2490
END:VEVENT

END:VCALENDAR
