BEGIN:VCALENDAR
VERSION:2.0
PRODID:-//ChamberMaster//Event Calendar 2.0//EN
METHOD:PUBLISH
X-PUBLISHED-TTL:P3D
REFRESH-INTERVAL:P3D
CALSCALE:GREGORIAN
BEGIN:VEVENT
DTSTART;VALUE=DATE:20240628
DTEND;VALUE=DATE:20240629
TRANSP:TRANSPARENT
X-MICROSOFT-CDO-ALLDAYEVENT:TRUE
SUMMARY:Boneyfiddle Project Final Friday
DESCRIPTION:Boneyfiddle Project Final Friday at Three Bridges Concert Venue on Second St. - County Rock on the River. Music begins at 6:00 - 7:30pm The Jonalee White Trio and 8:00 - 9:30pm McGuffey Lane. Please bring lawn chair or blanket for seating. Vendors will be onsite.
X-ALT-DESC;FMTTYPE=text/html:Boneyfiddle Project Final Friday at Three Bridges Concert Venue on Second St. - County Rock on the River. Music begins at 6:00 - 7:30pm The Jonalee White Trio and 8:00 - 9:30pm McGuffey Lane. Please bring lawn chair or blanket for seating. Vendors will be onsite.
LOCATION:Three Bridges Concert Venue on Second St.
UID:e.3589.2332
SEQUENCE:3
DTSTAMP:20260425T181629Z
URL:https://business.portsmouth.org/events/details/boneyfiddle-project-final-friday-2332
END:VEVENT

END:VCALENDAR
