BEGIN:VCALENDAR
VERSION:2.0
PRODID:-//ChamberMaster//Event Calendar 2.0//EN
METHOD:PUBLISH
X-PUBLISHED-TTL:P3D
REFRESH-INTERVAL:P3D
CALSCALE:GREGORIAN
BEGIN:VEVENT
DTSTART;VALUE=DATE:20241221
DTEND;VALUE=DATE:20241222
TRANSP:TRANSPARENT
X-MICROSOFT-CDO-ALLDAYEVENT:TRUE
SUMMARY:Breakfast With Santa
DESCRIPTION:Breakfast includes\; pancakes\, sausage and drinks.\n\nChildren get a picture with Santa with a purchase of a meal.
X-ALT-DESC;FMTTYPE=text/html:Breakfast includes\; pancakes\, sausage and drinks.<br />\nChildren get a picture with Santa with a purchase of a meal.
LOCATION:Lucasville Masonic Lodge 726 Robert Lucas Rd Lucasville\, Oh 45648
UID:e.3589.3013
SEQUENCE:3
DTSTAMP:20260421T083931Z
URL:https://business.portsmouth.org/events/details/breakfast-with-santa-3013
END:VEVENT

END:VCALENDAR
