BEGIN:VCALENDAR
VERSION:2.0
PRODID:-//ChamberMaster//Event Calendar 2.0//EN
METHOD:PUBLISH
X-PUBLISHED-TTL:P3D
REFRESH-INTERVAL:P3D
CALSCALE:GREGORIAN
BEGIN:VEVENT
DTSTART:20240425T210000Z
DTEND:20240425T230000Z
X-MICROSOFT-CDO-ALLDAYEVENT:FALSE
SUMMARY:Business After Hours
DESCRIPTION:Business After Hours Habitat ReStore in New Boston from 5 - 7 pm. \n\nGive your business the Chamber advantage.
X-ALT-DESC;FMTTYPE=text/html:<br />\n<br />\n<span style="font-size:16px\;">Business After Hours Habitat ReStore in New Boston from 5 - 7 pm.&nbsp\;<br />\nGive your business the Chamber advantage.</span>
LOCATION:
UID:e.3589.2322
SEQUENCE:3
DTSTAMP:20260425T125510Z
URL:https://business.portsmouth.org/events/details/business-after-hours-2322
END:VEVENT

END:VCALENDAR
