BEGIN:VCALENDAR
VERSION:2.0
PRODID:-//ChamberMaster//Event Calendar 2.0//EN
METHOD:PUBLISH
X-PUBLISHED-TTL:P3D
REFRESH-INTERVAL:P3D
CALSCALE:GREGORIAN
BEGIN:VEVENT
DTSTART;VALUE=DATE:20241005
DTEND;VALUE=DATE:20241006
TRANSP:TRANSPARENT
X-MICROSOFT-CDO-ALLDAYEVENT:TRUE
SUMMARY:Cabin Critters first Annual Happy Tails Dinner
DESCRIPTION:Fundraisers for Cabin Critters Animal Rescue \n\nDinner and Auction
X-ALT-DESC;FMTTYPE=text/html:Fundraisers for Cabin Critters Animal Rescue&nbsp\;<br />\nDinner and Auction
LOCATION:American Legion 705 Court St. Portsmouth\, Oh 45662
UID:e.3589.2949
SEQUENCE:3
DTSTAMP:20260421T204719Z
URL:https://business.portsmouth.org/events/details/cabin-critters-first-annual-happy-tails-dinner-2949
END:VEVENT

END:VCALENDAR
