BEGIN:VCALENDAR
VERSION:2.0
PRODID:-//ChamberMaster//Event Calendar 2.0//EN
METHOD:PUBLISH
X-PUBLISHED-TTL:P3D
REFRESH-INTERVAL:P3D
CALSCALE:GREGORIAN
BEGIN:VEVENT
DTSTART;VALUE=DATE:20200418
DTEND;VALUE=DATE:20200419
TRANSP:TRANSPARENT
X-MICROSOFT-CDO-ALLDAYEVENT:TRUE
SUMMARY:Canoe Float
DESCRIPTION:April 18th - The FoSBC and Division of Natural Areas and Preserves are partnering to offer a canoe float in the watershed.  Scenic Rivers staff will be conducting a Stream Quality Monitoring program.  Registration is required please contact Jody at 740-493-3062 or fosbc@scpwildblue.com.  There is a limited number of canoes available.
X-ALT-DESC;FMTTYPE=text/html:April 18th - The FoSBC and Division of Natural Areas and Preserves are partnering to offer a canoe float in the watershed. &nbsp\;Scenic Rivers staff will be conducting a Stream Quality Monitoring program<strong>.&nbsp\; Registration is required</strong> please contact Jody at 740-493-3062 or <a href="mailto:fosbc@scpwildblue.com">fosbc@scpwildblue.com</a>.&nbsp\; There is a limited number of canoes available.
LOCATION:
UID:e.3589.78
SEQUENCE:3
DTSTAMP:20260422T122353Z
URL:https://business.portsmouth.org/events/details/canoe-float-78
END:VEVENT

END:VCALENDAR
