BEGIN:VCALENDAR
VERSION:2.0
PRODID:-//ChamberMaster//Event Calendar 2.0//EN
METHOD:PUBLISH
X-PUBLISHED-TTL:P3D
REFRESH-INTERVAL:P3D
CALSCALE:GREGORIAN
BEGIN:VEVENT
DTSTART;VALUE=DATE:20230904
DTEND;VALUE=DATE:20230905
TRANSP:TRANSPARENT
X-MICROSOFT-CDO-ALLDAYEVENT:TRUE
SUMMARY:Car\, Truck\, Bike Show
DESCRIPTION:Don't miss the 49th Annual Portsmouth Labor Day car\, truck and bike show at 705 Court Street in downtown Portsmouth (American Legion Post #23)\n\n\n\nAll proceeds benefit veterans.  \n\n\n\nRegistration 9 am to 1 pm  \n\n$10\n\n\n\n79 Awards!!!
X-ALT-DESC;FMTTYPE=text/html:<br />\n<br />\n<br />\n<span style="font-size:22px\;">Don&#39\;t miss the 49th Annual Portsmouth Labor Day car\, truck and bike show at 705 Court Street in downtown Portsmouth (American Legion Post #23)<br />\n<br />\nAll proceeds benefit veterans.&nbsp\;&nbsp\;<br />\n<br />\nRegistration 9 am to 1 pm&nbsp\;&nbsp\;<br />\n$10<br />\n<br />\n79 Awards!!!</span><br />\n&nbsp\;
LOCATION:
UID:e.3589.2058
SEQUENCE:3
DTSTAMP:20260425T232347Z
URL:https://business.portsmouth.org/events/details/car-truck-bike-show-2058
END:VEVENT

END:VCALENDAR
