BEGIN:VCALENDAR
VERSION:2.0
PRODID:-//ChamberMaster//Event Calendar 2.0//EN
METHOD:PUBLISH
X-PUBLISHED-TTL:P3D
REFRESH-INTERVAL:P3D
CALSCALE:GREGORIAN
BEGIN:VEVENT
DTSTART:20221013T230000Z
DTEND:20221014T010000Z
X-MICROSOFT-CDO-ALLDAYEVENT:FALSE
SUMMARY:Castles\, Cathefrals & the Crown
DESCRIPTION:presented by Portsmouth Wind Symphony
X-ALT-DESC;FMTTYPE=text/html:presented by Portsmouth Wind Symphony<br />\n&nbsp\;
LOCATION:Vern Riffe Center for the Arts 940 Second Street\, Portsmouth\, Oh 45662
UID:e.3589.424
SEQUENCE:3
DTSTAMP:20260425T021246Z
URL:https://business.portsmouth.org/events/details/castles-cathefrals-the-crown-424
END:VEVENT

END:VCALENDAR
