BEGIN:VCALENDAR
VERSION:2.0
PRODID:-//ChamberMaster//Event Calendar 2.0//EN
METHOD:PUBLISH
X-PUBLISHED-TTL:P3D
REFRESH-INTERVAL:P3D
CALSCALE:GREGORIAN
BEGIN:VEVENT
DTSTART;VALUE=DATE:20240509
DTEND;VALUE=DATE:20240510
TRANSP:TRANSPARENT
X-MICROSOFT-CDO-ALLDAYEVENT:TRUE
SUMMARY:Chamber Breakfast
DESCRIPTION:Join us for a Chamber Breakfast at the Welcome Center\, 342 2nd Street in downtown Portsmouth.  Our guest will be the Women's Business Center\, ECDI and they will be talking about Access to Captial.  Begins at 8 am.  Registration is required by calling 740-353-7647.
X-ALT-DESC;FMTTYPE=text/html:<br />\n<br />\nJoin us for a Chamber Breakfast at the Welcome Center\, 342 2nd Street in downtown Portsmouth.&nbsp\; Our guest will be the Women&#39\;s Business Center\, ECDI and they will be talking about Access to Captial.&nbsp\; Begins at 8 am.&nbsp\; Registration is required by calling 740-353-7647.&nbsp\;&nbsp\;
LOCATION:
UID:e.3589.2327
SEQUENCE:3
DTSTAMP:20260425T131431Z
URL:https://business.portsmouth.org/events/details/chamber-breakfast-2327
END:VEVENT

END:VCALENDAR
