BEGIN:VCALENDAR
VERSION:2.0
PRODID:-//ChamberMaster//Event Calendar 2.0//EN
METHOD:PUBLISH
X-PUBLISHED-TTL:P3D
REFRESH-INTERVAL:P3D
CALSCALE:GREGORIAN
BEGIN:VEVENT
DTSTART;VALUE=DATE:20211214
DTEND;VALUE=DATE:20211215
TRANSP:TRANSPARENT
X-MICROSOFT-CDO-ALLDAYEVENT:TRUE
SUMMARY:Charlie Brown Christmas
DESCRIPTION:December 14th - Charlie Brown Christmas: Live on Stage at the Vern Riffe Center! Everyone's favorite holiday classic comes to life as Charlie Brown\, Snoopy\, Lucy\, Linus\, and the whole Peanuts gang produce their own Christmas play and ultimately learn the true meaning of the season. A Charlie Brown Christmas Live On Stage provides a completely new way of experiencing the story\, as characters are played by real actors who maintain the integrity and animate the spirit of each Peanuts character. Contact the McKinley Box Office for seating and ticket information at 740-351-3600 or info@vrcfa.com.
X-ALT-DESC;FMTTYPE=text/html:<span style="font-size:24px\;"><strong>December 14<sup>th</sup> - Charlie Brown Christmas: Live on Stage at the Vern Riffe Center!</strong> Everyone&rsquo\;s favorite holiday classic comes to life as Charlie Brown\, Snoopy\, Lucy\, Linus\, and the whole Peanuts gang produce their own Christmas play and ultimately learn the true meaning of the season. A Charlie Brown Christmas Live On Stage provides a completely new way of experiencing the story\, as characters are played by real actors who maintain the integrity and animate the spirit of each Peanuts character. Contact the McKinley Box Office for seating and ticket information at 740-351-3600 or info@vrcfa.com.</span>
LOCATION:
UID:e.3589.267
SEQUENCE:3
DTSTAMP:20260419T130841Z
URL:https://business.portsmouth.org/events/details/charlie-brown-christmas-267
END:VEVENT

END:VCALENDAR
