BEGIN:VCALENDAR
VERSION:2.0
PRODID:-//ChamberMaster//Event Calendar 2.0//EN
METHOD:PUBLISH
X-PUBLISHED-TTL:P3D
REFRESH-INTERVAL:P3D
CALSCALE:GREGORIAN
BEGIN:VEVENT
DTSTART:20210724T150000Z
DTEND:20210724T160000Z
X-MICROSOFT-CDO-ALLDAYEVENT:FALSE
SUMMARY:Children's Community Full of Love Brunch
DESCRIPTION:Pleasant Green Baptist Church will be holding a "Children's Community Full of Love Brunch" featuring food and activities.  Pleasant Green is located at 1421 Waller Street in Portsmouth.  Please use the 15th Street\, side entrance.
X-ALT-DESC;FMTTYPE=text/html:<span style="color:#0000CD\;"><strong><span style="font-family:tahoma\;"><span style="font-size:22px\;">Pleasant Green Baptist Church will be holding a &quot\;Children&#39\;s Community Full of Love Brunch&quot\; featuring food and activities.&nbsp\; Pleasant Green is located at 1421 Waller Street in Portsmouth.&nbsp\; Please use the 15th Street\, side entrance.&nbsp\;&nbsp\;</span></span></strong></span>
LOCATION:
UID:e.3589.248
SEQUENCE:3
DTSTAMP:20260419T175047Z
URL:https://business.portsmouth.org/events/details/children-s-community-full-of-love-brunch-248
END:VEVENT

END:VCALENDAR
