BEGIN:VCALENDAR
VERSION:2.0
PRODID:-//ChamberMaster//Event Calendar 2.0//EN
METHOD:PUBLISH
X-PUBLISHED-TTL:P3D
REFRESH-INTERVAL:P3D
CALSCALE:GREGORIAN
BEGIN:VEVENT
DTSTART;VALUE=DATE:20211203
DTEND;VALUE=DATE:20211205
TRANSP:TRANSPARENT
X-MICROSOFT-CDO-ALLDAYEVENT:TRUE
SUMMARY:Christmas Cave
DESCRIPTION:The 2021 Christmas Cave season begins on November 19th and will be open every Friday and Saturday (5 weekends) closing December 18th before Christmas. The Christmas Cave is a self-guided light display presented uniquely in the beautiful and mysterious passageways of an underground mine where over 28\,000 people visited last year. Their museum-quality displays depict the historical moments surrounding the birth of the Savior.  Hours of Operation: 4pm-10pm. Located at 4007 White Gravel McDaniel Road in Minford.
X-ALT-DESC;FMTTYPE=text/html:<span style="font-size:22px\;"><strong><u>The 2021 Christmas Cave</u></strong> season begins on November 19th and will be open every Friday and Saturday (5 weekends) closing December 18th before Christmas. The Christmas Cave is a self-guided light display presented uniquely in the beautiful and mysterious passageways of an underground mine where over 28\,000 people visited last year. Their museum-quality displays depict the historical moments surrounding the birth of the Savior.&nbsp\; Hours of Operation: 4pm-10pm. Located at 4007 White Gravel McDaniel Road in Minford.</span>
LOCATION:
UID:e.3589.291
SEQUENCE:3
DTSTAMP:20260419T130101Z
URL:https://business.portsmouth.org/events/details/christmas-cave-291
END:VEVENT

END:VCALENDAR
