BEGIN:VCALENDAR
VERSION:2.0
PRODID:-//ChamberMaster//Event Calendar 2.0//EN
METHOD:PUBLISH
X-PUBLISHED-TTL:P3D
REFRESH-INTERVAL:P3D
CALSCALE:GREGORIAN
BEGIN:VEVENT
DTSTART:20211130T000000Z
DTEND:20211130T020000Z
X-MICROSOFT-CDO-ALLDAYEVENT:FALSE
SUMMARY:Christmas Gift to Portsmouth
DESCRIPTION:The 29th Annual Christmas Gift to Portsmouth   Free concert presented by the Sonshine School of Evangelism\, given to the community in order to uplift the area with a first-class concert in a first-class venue.  Entertainment includes Portsmouth West Choir\, nationally known pianist Stephen Foster\, Grand Ole Opry performers Brian Goins and River Road\, the trio Art Bush\, Jeff Bush and Tracy Tooley\, the Diggles Family from Louisville\, KY and local talent Dan Bentley.  Concert is at 7 pm.  Admission is free but a ticket is requires.  Call the McKinley Box Office at 740-351-3600.
X-ALT-DESC;FMTTYPE=text/html:<span style="font-size:22px\;"><span style="color:#0000CD\;"><strong><span style="font-family:times new roman\,serif\;">The 29<sup>th</sup> Annual Christmas Gift to Portsmouth</span></strong><span style="font-family:times new roman\,serif\;"> &ndash\; Free concert presented by the Sonshine School of Evangelism\, given to the community in order to uplift the area with a first-class concert in a first-class venue.&nbsp\; Entertainment includes Portsmouth West Choir\, nationally known pianist Stephen Foster\, Grand Ole Opry performers Brian Goins and River Road\, the trio Art Bush\, Jeff Bush and Tracy Tooley\, the Diggles Family from Louisville\, KY and local talent Dan Bentley.&nbsp\; Concert is at 7 pm.&nbsp\; Admission is free but a ticket is requires.&nbsp\; Call the McKinley Box Office at 740-351-3600.</span></span></span>
LOCATION:
UID:e.3589.298
SEQUENCE:3
DTSTAMP:20260419T141751Z
URL:https://business.portsmouth.org/events/details/christmas-gift-to-portsmouth-298
END:VEVENT

END:VCALENDAR
