BEGIN:VCALENDAR
VERSION:2.0
PRODID:-//ChamberMaster//Event Calendar 2.0//EN
METHOD:PUBLISH
X-PUBLISHED-TTL:P3D
REFRESH-INTERVAL:P3D
CALSCALE:GREGORIAN
BEGIN:VEVENT
DTSTART:20211114T190000Z
DTEND:20211114T220000Z
X-MICROSOFT-CDO-ALLDAYEVENT:FALSE
SUMMARY:Christopher Wilke
DESCRIPTION:The Southern Ohio Museum is pleased to announce a Sunday Classics Concert featuring Cincinnati musician Christopher Wilke. "This concert will be exceptionally enchanting"\, says Executive Director Mark Chepp. The concert includes pieces performed on guitar and the baroque lute\, a 24-stringed medieval instrument. \n\n \n\nDr. Christopher Wilke has performed around the globe and recorded many CDs featuring his original compositions. The afternoon concert will be held in the Kricker Gallery\, the main floor of the Museum. The vaulted ceilings and prominent columns offer the perfect setting for this captivating music. \n\n \n\nA wine and cheese reception follows the concert and offers visitors a chance to speak with the musician. Galleries will be open. \n\n \n\nThe concert is sponsored by Bard and Jan Suverkrop and the Scioto Foundation. Tickets are available at the door\; $8 general admission\, $6 students\, seniors\, and museum members.\n\n\n\nSouthern Ohio Museum and Cultural Center\n\n825 Gallia Street\, Portsmouth\, OH 45662\n\n740-354-5629\; www.somacc.com\n\nContact: charlotte@somacc.com
X-ALT-DESC;FMTTYPE=text/html:&nbsp\;<br />\n<span style="font-size:12.0pt\;">The Southern Ohio Museum is pleased to announce a Sunday Classics Concert featuring Cincinnati musician Christopher Wilke. &ldquo\;This concert will be exceptionally enchanting&rdquo\;\, says Executive Director Mark Chepp. The concert includes pieces performed on guitar and the baroque lute\, a 24-stringed medieval instrument. </span><br />\n&nbsp\;<br />\n<span style="font-size:12.0pt\;">Dr. Christopher Wilke has performed around the globe and recorded many CDs featuring his original compositions. The afternoon concert will be held in the Kricker Gallery\, the main floor of the Museum. The vaulted ceilings and prominent columns offer the perfect setting for this captivating music. </span><br />\n&nbsp\;<br />\n<span style="font-size:12.0pt\;">A wine and cheese reception follows the concert and offers visitors a chance to speak with the musician. Galleries will be open. </span><br />\n&nbsp\;<br />\n<span style="font-size:12.0pt\;">The concert is sponsored by Bard and Jan Suverkrop and the Scioto Foundation. Tickets are available at the door\; $8 general admission\, $6 students\, seniors\, and museum members.</span><br />\n<br />\n<span style="color: rgb(51\, 51\, 51)\; font-family: sans-serif\, Arial\, Verdana\, &quot\;Trebuchet MS&quot\;\; font-size: 13px\; background-color: rgb(255\, 255\, 255)\;">Southern Ohio Museum and Cultural Center</span><br style="color: rgb(51\, 51\, 51)\; font-family: sans-serif\, Arial\, Verdana\, &quot\;Trebuchet MS&quot\;\; font-size: 13px\;" />\n<span style="color: rgb(51\, 51\, 51)\; font-family: sans-serif\, Arial\, Verdana\, &quot\;Trebuchet MS&quot\;\; font-size: 13px\; background-color: rgb(255\, 255\, 255)\;">825 Gallia Street\, Portsmouth\, OH 45662</span><br style="color: rgb(51\, 51\, 51)\; font-family: sans-serif\, Arial\, Verdana\, &quot\;Trebuchet MS&quot\;\; font-size: 13px\;" />\n<span style="color: rgb(51\, 51\, 51)\; font-family: sans-serif\, Arial\, Verdana\, &quot\;Trebuchet MS&quot\;\; font-size: 13px\; background-color: rgb(255\, 255\, 255)\;">740-354-5629\; www.somacc.com</span><br style="color: rgb(51\, 51\, 51)\; font-family: sans-serif\, Arial\, Verdana\, &quot\;Trebuchet MS&quot\;\; font-size: 13px\;" />\n<span style="color: rgb(51\, 51\, 51)\; font-size: 13px\; font-family: &quot\;palatino linotype&quot\;\, serif\;">Contact:&nbsp\;</span><a href="mailto:charlotte@somacc.com" style="color: rgb(7\, 130\, 193)\; font-family: sans-serif\, Arial\, Verdana\, &quot\;Trebuchet MS&quot\;\; font-size: 13px\;"><span style="font-family: &quot\;palatino linotype&quot\;\, serif\;">charlotte@somacc.com</span></a><span style="font-size:12.0pt\;"> </span>
LOCATION:
UID:e.3589.297
SEQUENCE:3
DTSTAMP:20260419T141434Z
URL:https://business.portsmouth.org/events/details/christopher-wilke-297
END:VEVENT

END:VCALENDAR
