BEGIN:VCALENDAR
VERSION:2.0
PRODID:-//ChamberMaster//Event Calendar 2.0//EN
METHOD:PUBLISH
X-PUBLISHED-TTL:P3D
REFRESH-INTERVAL:P3D
CALSCALE:GREGORIAN
BEGIN:VEVENT
DTSTART;VALUE=DATE:20240217
DTEND;VALUE=DATE:20240218
TRANSP:TRANSPARENT
X-MICROSOFT-CDO-ALLDAYEVENT:TRUE
SUMMARY:Cirque d'Art - BOOT CAMP
DESCRIPTION:Cirque D Art will conduct Boot Camps for ages 6 and up 10 am   3 pm. Pre-registration by Feb. 12th. Camp will include Acrobatics\, Ballet\, Aerial\, and Tumbling. Sign-ups will be taken at the Cirque Studio on Chillicothe Street. Limited Spots available. Register for all three camps and receive a Free Boot Camp Tshirt. $50 for 1 camp\; $90 for 2 camps\; $120. For all three camps. Bring your lunch and bottled water. Other camp dates are Mar. 2 and Apr. 6
X-ALT-DESC;FMTTYPE=text/html:<span style="font-size:14px\;"><font face="times new roman\, serif">Cirque D Art will conduct Boot Camps for ages 6 and up 10 am &ndash\; 3 pm. Pre-registration by Feb. 12</font><sup style="font-family: &quot\;times new roman&quot\;\, serif\; font-size: 12px\;">th</sup><font face="times new roman\, serif">. Camp will include Acrobatics\, Ballet\, Aerial\, and Tumbling. Sign-ups&nbsp\;will be taken at the Cirque Studio on Chillicothe Street. Limited Spots available. Register for all three camps and receive a Free Boot Camp Tshirt. $50 for 1 camp\; $90 for 2 camps\; $120. For all three camps. Bring your lunch and bottled water. Other camp dates are Mar. 2 and Apr. 6</font></span>
LOCATION:
UID:e.3589.2273
SEQUENCE:3
DTSTAMP:20260425T102359Z
URL:https://business.portsmouth.org/events/details/cirque-d-art-boot-camp-2273
END:VEVENT

END:VCALENDAR
