BEGIN:VCALENDAR
VERSION:2.0
PRODID:-//ChamberMaster//Event Calendar 2.0//EN
METHOD:PUBLISH
X-PUBLISHED-TTL:P3D
REFRESH-INTERVAL:P3D
CALSCALE:GREGORIAN
BEGIN:VEVENT
DTSTART;VALUE=DATE:20211106
DTEND;VALUE=DATE:20211107
TRANSP:TRANSPARENT
X-MICROSOFT-CDO-ALLDAYEVENT:TRUE
SUMMARY:Clay Craft Bazaar
DESCRIPTION:Clay Craft Bazaar  at the new Clay High School\, from 9 am   3 pm.  Pancake breakfast served from 9   11. Adult pancake price is $5 each and kids under 10 are $3.  Hotdogs served from 11   3.  Hotdogs  - $5 for ages.  Santa pictures will also be taken from 10   2 with packages available for delivery before Christmas.
X-ALT-DESC;FMTTYPE=text/html:<span style="font-size:28px\;"><strong>Clay Craft Bazaar&nbsp\; </strong>at the new Clay High School\, from 9 am &ndash\; 3 pm.&nbsp\; Pancake breakfast served from 9 &ndash\; 11. Adult pancake price is $5 each and kids under 10 are $3.&nbsp\; Hotdogs served from 11 &ndash\; 3.&nbsp\; Hotdogs &nbsp\;- $5 for ages.&nbsp\; Santa pictures will also be taken from 10 &ndash\; 2 with packages available for delivery before Christmas.&nbsp\;</span>
LOCATION:
UID:e.3589.296
SEQUENCE:3
DTSTAMP:20260419T141527Z
URL:https://business.portsmouth.org/events/details/clay-craft-bazaar-296
END:VEVENT

END:VCALENDAR
