BEGIN:VCALENDAR
VERSION:2.0
PRODID:-//ChamberMaster//Event Calendar 2.0//EN
METHOD:PUBLISH
X-PUBLISHED-TTL:P3D
REFRESH-INTERVAL:P3D
CALSCALE:GREGORIAN
BEGIN:VEVENT
DTSTART:20210417T130000Z
DTEND:20210417T160000Z
X-MICROSOFT-CDO-ALLDAYEVENT:FALSE
SUMMARY:Cleanup Day
DESCRIPTION:The Friends of Portsmouth will be hosting a cleanup day.  \n\n\n\nMeet at 613 Campbell Avenue at the Shelter in the Park\, where volunteers will work on cleaning up the 4th Ward\n\n\n\n\n\nhttps://www.facebook.com/FriendsOfPortsmouth
X-ALT-DESC;FMTTYPE=text/html:<span style="font-size:18px\;"><strong><span style="color:#0000FF\;"><span style="font-size:28px\;">The Friends of Portsmouth will be hosting a cleanup day.&nbsp\;&nbsp\;</span></span></strong></span><br />\n<br />\n<strong><span style="font-size:18px\;"><span style="color: rgb(5\, 5\, 5)\; font-family: &quot\;Segoe UI Historic&quot\;\, &quot\;Segoe UI&quot\;\, Helvetica\, Arial\, sans-serif\; white-space: pre-wrap\; background-color: rgb(255\, 255\, 255)\;">Meet at 613 Campbell Avenue at the Shelter in the Park\, where volunteers will work on cleaning up the 4th Ward</span></span></strong><br />\n<br />\n<br />\n<a href="https://www.facebook.com/FriendsOfPortsmouth">https://www.facebook.com/FriendsOfPortsmouth</a>
LOCATION:
UID:e.3589.181
SEQUENCE:3
DTSTAMP:20260419T224000Z
URL:https://business.portsmouth.org/events/details/cleanup-day-181
END:VEVENT

END:VCALENDAR
