BEGIN:VCALENDAR
VERSION:2.0
PRODID:-//ChamberMaster//Event Calendar 2.0//EN
METHOD:PUBLISH
X-PUBLISHED-TTL:P3D
REFRESH-INTERVAL:P3D
CALSCALE:GREGORIAN
BEGIN:VEVENT
DTSTART:20210821T130000Z
DTEND:20210821T160000Z
X-MICROSOFT-CDO-ALLDAYEVENT:FALSE
SUMMARY:Cleanup Day
DESCRIPTION:The Friends of Portsmouth will be hosting  cleanup day on the river bank.\n\n \n\nWatch their Facebook page for details. \n\n\n\nhttps://www.facebook.com/FriendsOfPortsmouth
X-ALT-DESC;FMTTYPE=text/html:<span style="font-size:20px\;"><strong>The Friends of Portsmouth will be hosting&nbsp\; cleanup day on the river bank.<br />\n&nbsp\;<br />\nWatch their Facebook page for details.&nbsp\;</strong></span><br />\n<br />\n<a href="https://www.facebook.com/FriendsOfPortsmouth">https://www.facebook.com/FriendsOfPortsmouth</a>
LOCATION:
UID:e.3589.189
SEQUENCE:3
DTSTAMP:20260419T174353Z
URL:https://business.portsmouth.org/events/details/cleanup-day-189
END:VEVENT

END:VCALENDAR
