BEGIN:VCALENDAR
VERSION:2.0
PRODID:-//ChamberMaster//Event Calendar 2.0//EN
METHOD:PUBLISH
X-PUBLISHED-TTL:P3D
REFRESH-INTERVAL:P3D
CALSCALE:GREGORIAN
BEGIN:VEVENT
DTSTART:20241028T120000Z
DTEND:20241028T130000Z
X-MICROSOFT-CDO-ALLDAYEVENT:FALSE
SUMMARY:Coffee at the Kricker
DESCRIPTION:Join us as the Chamber sponsors the Coffee at the Kricker at 8 am on Monday\, Octoberl 28th.  \n\nDoors open at 8 am\n\nMini-talk 8:15\n\nQ & A 8:25\n\nNetworking 8:30 - 9:00\n\n\n\nNo charge and open to the public.  Come and go as it fits your schedule.
X-ALT-DESC;FMTTYPE=text/html:<br />\n<br />\n<span style="font-size:20px\;">Join us as the Chamber sponsors the Coffee at the Kricker at 8 am on Monday\, Octoberl 28th.&nbsp\;&nbsp\;<br />\nDoors open at 8 am<br />\nMini-talk 8:15<br />\nQ &amp\; A 8:25<br />\nNetworking 8:30 - 9:00<br />\n<br />\nNo charge and open to the public.&nbsp\; Come and go as it fits your schedule.&nbsp\;&nbsp\;</span>
LOCATION:221 Chillicothe Street Portsmouth\, OH 45662
UID:e.3589.2938
SEQUENCE:3
DTSTAMP:20260421T193813Z
URL:https://business.portsmouth.org/events/details/coffee-at-the-kricker-2938
END:VEVENT

END:VCALENDAR
