BEGIN:VCALENDAR
VERSION:2.0
PRODID:-//ChamberMaster//Event Calendar 2.0//EN
METHOD:PUBLISH
X-PUBLISHED-TTL:P3D
REFRESH-INTERVAL:P3D
CALSCALE:GREGORIAN
BEGIN:VEVENT
DTSTART;VALUE=DATE:20240406
DTEND;VALUE=DATE:20240407
TRANSP:TRANSPARENT
X-MICROSOFT-CDO-ALLDAYEVENT:TRUE
SUMMARY:Comedy Night
DESCRIPTION:Friends of Portsmouth presents Comedy Night with Henry Allen & Austin Riffe at Oddfellows Restaurant on 2nd St. 6:00 pm Tickets: https://www.eventbright.com/e/fop-presents-comedy-night-with-henry-allen-austin-riffe-at-oddfellows-rickets-814395708487
X-ALT-DESC;FMTTYPE=text/html:Friends of Portsmouth presents Comedy Night with Henry Allen &amp\; Austin Riffe at Oddfellows Restaurant on 2nd St. 6:00 pm Tickets: https://www.eventbright.com/e/fop-presents-comedy-night-with-henry-allen-austin-riffe-at-oddfellows-rickets-814395708487&nbsp\;
LOCATION:
UID:e.3589.2267
SEQUENCE:3
DTSTAMP:20260425T125616Z
URL:https://business.portsmouth.org/events/details/comedy-night-04-06-2024-2267
END:VEVENT

END:VCALENDAR
