BEGIN:VCALENDAR
VERSION:2.0
PRODID:-//ChamberMaster//Event Calendar 2.0//EN
METHOD:PUBLISH
X-PUBLISHED-TTL:P3D
REFRESH-INTERVAL:P3D
CALSCALE:GREGORIAN
BEGIN:VEVENT
DTSTART:20200403T220000Z
DTEND:20200404T010000Z
X-MICROSOFT-CDO-ALLDAYEVENT:FALSE
SUMMARY:Comedy Night Featuring Henry Allen and Friends: Presented by Friends of Portsmouth
DESCRIPTION:Henry Allen is the youngest ever winner of the Funny Bone competition\, Funniest Comedian in Columbus. Since then\, he has won contests all over Ohio and has become a regular at the Columbus Funny Bone. He has worked with acts from HBO\, Comedy Central\, Netflix\, and America's Got Talent. Last year he was invited to showcase for Just For Laughs that included the best comedians from across the Mid West. His improvised and laid back style guarantees every show is different. Going on 10 years in the stand up game\, the best is yet to come.
X-ALT-DESC;FMTTYPE=text/html:<span style="color:rgb(34\, 34\, 34)\; font-family:arial\,helvetica\,sans-serif\; font-size:small">Henry Allen is the youngest ever winner of the Funny Bone competition\, Funniest Comedian in Columbus. Since then\, he has won contests all over Ohio and has become a regular at the Columbus Funny Bone. He has worked with acts from HBO\, Comedy Central\, Netflix\, and America&rsquo\;s Got Talent. Last year he was invited to showcase for Just For Laughs that included the best comedians from across the Mid West. His improvised and laid back style guarantees every show is different. Going on 10 years in the stand up game\, the best is yet to come.&nbsp\;</span>
LOCATION:Holiday Inn-Portsmouth Downtown 711 2nd St\, Portsmouth\, Ohio 45662
UID:e.3589.106
SEQUENCE:3
DTSTAMP:20260422T122953Z
URL:https://business.portsmouth.org/events/details/comedy-night-featuring-henry-allen-and-friends-presented-by-friends-of-portsmouth-106
END:VEVENT

END:VCALENDAR
