BEGIN:VCALENDAR
VERSION:2.0
PRODID:-//ChamberMaster//Event Calendar 2.0//EN
METHOD:PUBLISH
X-PUBLISHED-TTL:P3D
REFRESH-INTERVAL:P3D
CALSCALE:GREGORIAN
BEGIN:VEVENT
DTSTART;VALUE=DATE:20241020
DTEND;VALUE=DATE:20241021
TRANSP:TRANSPARENT
X-MICROSOFT-CDO-ALLDAYEVENT:TRUE
SUMMARY:Connex Conservation Hike
DESCRIPTION:Scioto County Soil and Water Conservation and Portsmouth Connex invite you to join us at Scioto Brush Creek Nature Preserve to learn about conservation. Join educator Jessica Dunn on a scavenger hunt adventure. Hike the River Otter Trail a 1.2 mile family-oriented hike that follows along Brush Creek. The creek is home to over 70 fish species and is the exclusive habitat of the Appalachian Spiraea.
X-ALT-DESC;FMTTYPE=text/html:Scioto County Soil and Water Conservation and Portsmouth Connex invite you to join us at Scioto Brush Creek Nature Preserve to learn about conservation. Join educator Jessica Dunn on a scavenger hunt adventure. Hike the River Otter Trail a 1.2 mile family-oriented hike that follows along Brush Creek. The creek is home to over 70 fish species and is the exclusive habitat of the Appalachian Spiraea.&nbsp\;
LOCATION:Meet at the Tatman-Coe Road in McDermott
UID:e.3589.2911
SEQUENCE:3
DTSTAMP:20260421T095713Z
URL:https://business.portsmouth.org/events/details/connex-conservation-hike-2911
END:VEVENT

END:VCALENDAR
