BEGIN:VCALENDAR
VERSION:2.0
PRODID:-//ChamberMaster//Event Calendar 2.0//EN
METHOD:PUBLISH
X-PUBLISHED-TTL:P3D
REFRESH-INTERVAL:P3D
CALSCALE:GREGORIAN
BEGIN:VEVENT
DTSTART;VALUE=DATE:20210619
DTEND;VALUE=DATE:20210620
TRANSP:TRANSPARENT
X-MICROSOFT-CDO-ALLDAYEVENT:TRUE
SUMMARY:Connex Wild Ride
DESCRIPTION:PORTSMOUTH CONNEX WILD RIDE\n\n\n\nPortsmouth Connex is proud to introduce the first annual Shawnee Forest WILD Ride. The Shawnee State Forest is the largest state park in Ohio with more than 60\,000 acres and is often referred to as the "The Little Smokies of Ohio".  The WILD Ride is a road roll and will launch from the Shawnee Lodge parking lot between 8am and 10am on Saturday June 19th.  The cyclist may choose from three route options:  the Bear Cub a 16.5 mile/900 feet elevation out and back route meant to challenge beginner riders\; the Bobcat a 30 mile/2045 feet elevation intermediate route for more experience riders\; and the Rattler Roll a 56 mile/3750 feet elevation advanced route full of challenging hills and twisting downhill turns.  For a more detailed look check out our routes link below.  Aid stations will be provided along all three courses.  A registration fee of $25/rider is required in advance no later than 8pm on Sunday June 13th.  The Wild Ride is not a race.  All Wild Ride finishers will celebrate with music and local favorites including a pub glass commemorating the ride containing a voucher that entitles participants to a drink of choice from the Portsmouth Brewing Company located at 224 2nd Street Portsmouth\, Ohio.  The Portsmouth Brewing Company is a longtime local microbrewery offering a variety of homemade brews on tap.  Participants are asked to wear masks and maintain social distancing at start\, finish\, and aid stations.  Riders are asked to ride within small groups and should not draft with others outside of his/her family units. \n\nView the Routes Or Register Today!
X-ALT-DESC;FMTTYPE=text/html:<header class="entry-header" style="box-sizing: inherit\; padding: 0px 0px 1em\; margin-left: auto\; margin-right: auto\; margin-bottom: 4em\; color: rgb(51\, 51\, 51)\; font-family: &quot\;Libre Franklin&quot\;\, &quot\;Helvetica Neue&quot\;\, helvetica\, arial\, sans-serif\; font-size: 16px\; background-color: rgb(255\, 255\, 255)\;">\n<h1 class="entry-title" style="box-sizing: inherit\; font-size: 0.875rem\; margin: 0px 0px 0.25em\; clear: both\; line-height: 1.4\; padding: 0px\; color: rgb(34\, 34\, 34)\; letter-spacing: 0.14em\; text-transform: uppercase\;">PORTSMOUTH CONNEX WILD RIDE</h1>\n</header>\n\n<div class="entry-content" style="box-sizing: inherit\; margin-left: auto\; margin-right: auto\; color: rgb(51\, 51\, 51)\; font-family: &quot\;Libre Franklin&quot\;\, &quot\;Helvetica Neue&quot\;\, helvetica\, arial\, sans-serif\; font-size: 16px\; background-color: rgb(255\, 255\, 255)\;">\n<p style="box-sizing: inherit\; margin: 0px 0px 1.5em\; padding: 0px\;">Portsmouth Connex is proud to introduce the first annual Shawnee Forest WILD Ride. The Shawnee State Forest is the largest state park in Ohio with more than 60\,000 acres and is often referred to as the &ldquo\;The Little Smokies of Ohio&rdquo\;.&nbsp\; The WILD Ride is a road roll and will launch from the Shawnee Lodge parking lot between 8am and 10am on Saturday June 19<span style="box-sizing: inherit\; font-size: 12px\; line-height: 0\; position: relative\; vertical-align: baseline\; top: -0.5em\;">th</span>.&nbsp\; The cyclist may choose from three route options:&nbsp\; the Bear Cub&mdash\;a 16.5 mile/900 feet elevation out and back route meant to challenge beginner riders\; the Bobcat&mdash\;a 30 mile/2045 feet elevation intermediate route for more experience riders\; and the Rattler Roll&mdash\;a 56 mile/3750 feet elevation advanced route full of challenging hills and twisting downhill turns.&nbsp\; For a more detailed look check out our routes link below.&nbsp\; Aid stations will be provided along all three courses.&nbsp\; A registration fee of $25/rider is required in advance no later than 8pm on Sunday June 13<span style="box-sizing: inherit\; font-size: 12px\; line-height: 0\; position: relative\; vertical-align: baseline\; top: -0.5em\;">th</span>.&nbsp\; The Wild Ride is not a race.&nbsp\; All Wild Ride finishers will celebrate with music and local favorites including a pub glass commemorating the ride containing a voucher that entitles participants to a drink of choice from the Portsmouth Brewing Company located at 224 2<span style="box-sizing: inherit\; font-size: 12px\; line-height: 0\; position: relative\; vertical-align: baseline\; top: -0.5em\;">nd</span>&nbsp\;Street Portsmouth\, Ohio.&nbsp\; The Portsmouth Brewing Company is a longtime local microbrewery offering a variety of homemade brews on tap.&nbsp\;&nbsp\;Participants are asked to wear masks and maintain social distancing at start\, finish\, and aid stations.&nbsp\; Riders are asked to ride within small groups and should not draft with others outside of his/her family units.&nbsp\;</p>\n\n<p style="box-sizing: inherit\; margin: 0px 0px 1.5em\; padding: 0px\;">View the&nbsp\;<a data-id="2480" data-type="page" href="https://portsmouth.connexmoves.org/2021_wild_ride_routes/" rel="noreferrer noopener" style="box-sizing: inherit\; background-color: transparent\; color: rgb(34\, 34\, 34)\; text-decoration-line: none\; box-shadow: rgb(15\, 15\, 15) 0px -1px 0px inset\; transition: color 80ms ease-in 0s\, box-shadow 130ms ease-in-out 0s\, -webkit-box-shadow 130ms ease-in-out 0s\;" target="_blank">Routes</a>&nbsp\;Or&nbsp\;<a href="https://portsmouth.connexmoves.org/wild_ride_2021_registration/" rel="noreferrer noopener" style="box-sizing: inherit\; background-color: transparent\; color: rgb(34\, 34\, 34)\; text-decoration-line: none\; box-shadow: rgb(15\, 15\, 15) 0px -1px 0px inset\; transition: color 80ms ease-in 0s\, box-shadow 130ms ease-in-out 0s\, -webkit-box-shadow 130ms ease-in-out 0s\;" target="_blank">Register</a>&nbsp\;Today!</p>\n</div>\n
LOCATION:
UID:e.3589.202
SEQUENCE:3
DTSTAMP:20260419T185944Z
URL:https://business.portsmouth.org/events/details/connex-wild-ride-202
END:VEVENT

END:VCALENDAR
