BEGIN:VCALENDAR
VERSION:2.0
PRODID:-//ChamberMaster//Event Calendar 2.0//EN
METHOD:PUBLISH
X-PUBLISHED-TTL:P3D
REFRESH-INTERVAL:P3D
CALSCALE:GREGORIAN
BEGIN:VEVENT
DTSTART:20200218T230000Z
DTEND:20200219T020000Z
X-MICROSOFT-CDO-ALLDAYEVENT:FALSE
SUMMARY:Conservation School
DESCRIPTION:Session Topics and Speakers  Beekeeping-Wyatt Bates Canning & Preserving-Treva Williams\, OSU Extension Raising Mushrooms-Julie Powell Albright\, More Than Morels Maple Syrup Making-Matt Taylor\, Camp Oyo Ranger Organic Gardening-Kevin & Barbara Bradberry Salve Making-Brenda Wilson\, Adams County Herb Guild*Youth attendees can join the Kids Zone for Fun Activities with FFA Students
X-ALT-DESC;FMTTYPE=text/html:Session Topics and Speakers&mdash\; Beekeeping-Wyatt Bates Canning &amp\; Preserving-Treva Williams\, OSU Extension Raising Mushrooms-Julie Powell Albright\, More Than Morels Maple Syrup Making-Matt Taylor\, Camp Oyo Ranger Organic Gardening-Kevin &amp\; Barbara Bradberry Salve Making-Brenda Wilson\, Adams County Herb Guild*Youth attendees can join the Kids Zone for Fun Activities with FFA Students
LOCATION:SOMC Friends Center 1202 18th Street Portsmouth OH 45662
UID:e.3589.54
SEQUENCE:3
DTSTAMP:20260422T153127Z
URL:https://business.portsmouth.org/events/details/conservation-school-54
END:VEVENT

END:VCALENDAR
