BEGIN:VCALENDAR
VERSION:2.0
PRODID:-//ChamberMaster//Event Calendar 2.0//EN
METHOD:PUBLISH
X-PUBLISHED-TTL:P3D
REFRESH-INTERVAL:P3D
CALSCALE:GREGORIAN
BEGIN:VEVENT
DTSTART;VALUE=DATE:20241026
DTEND;VALUE=DATE:20241027
TRANSP:TRANSPARENT
X-MICROSOFT-CDO-ALLDAYEVENT:TRUE
SUMMARY:Costumes & Cocktails
DESCRIPTION:Come join us for Costumes + Cocktails @ Oddfellows!\n\nGet ready for a spooktacular evening filled with fun costumes and delicious cocktails at Oddfellows!   \n\nWhether you're dressing up as a witch\, a superhero\, or your favorite TV character\, this event is the perfect opportunity to show off your creativity! So grab your friends and get ready to sip on some scary-good drinks while mingling with fellow partygoers.  \n\nBest overall costume\, scariest costume\, funniest costume and best couples/group costume will be announced at 10:30 PM! Don't miss out on this fang-tastic event!      \n\n\n\nGuests will receive a drink ticket with their purchase of a party ticket!
X-ALT-DESC;FMTTYPE=text/html:<p style="margin: 0px\; padding: 0px\; box-sizing: border-box\; font-size: 16px\; line-height: 1.5rem\; color: rgb(111\, 114\, 135)\; font-family: &quot\;Neue Plak&quot\;\, -apple-system\, BlinkMacSystemFont\, Roboto\, &quot\;Helvetica Neue&quot\;\, Helvetica\, Tahoma\, Arial\, sans-serif\; background-color: rgb(255\, 255\, 255)\;"><span style="font-weight: 700\; box-sizing: border-box\; padding-top: 0px\;">Come join us for Costumes + Cocktails @ Oddfellows!</span></p>\n\n<p style="margin: 0px\; padding: 10px 0px 0px\; box-sizing: border-box\; font-size: 16px\; line-height: 1.5rem\; color: rgb(111\, 114\, 135)\; font-family: &quot\;Neue Plak&quot\;\, -apple-system\, BlinkMacSystemFont\, Roboto\, &quot\;Helvetica Neue&quot\;\, Helvetica\, Tahoma\, Arial\, sans-serif\; background-color: rgb(255\, 255\, 255)\;">Get ready for a spooktacular evening filled with fun costumes and delicious cocktails at Oddfellows! &#128128\;&#128123\;</p>\n\n<p style="margin: 0px\; padding: 10px 0px 0px\; box-sizing: border-box\; font-size: 16px\; line-height: 1.5rem\; color: rgb(111\, 114\, 135)\; font-family: &quot\;Neue Plak&quot\;\, -apple-system\, BlinkMacSystemFont\, Roboto\, &quot\;Helvetica Neue&quot\;\, Helvetica\, Tahoma\, Arial\, sans-serif\; background-color: rgb(255\, 255\, 255)\;">Whether you&#39\;re dressing up as a witch\, a superhero\, or your favorite TV character\, this event is the perfect opportunity to show off your creativity! So grab your friends and get ready to sip on some scary-good drinks while mingling with fellow partygoers. &#129346\;</p>\n\n<p style="margin: 0px\; padding: 10px 0px 0px\; box-sizing: border-box\; font-size: 16px\; line-height: 1.5rem\; color: rgb(111\, 114\, 135)\; font-family: &quot\;Neue Plak&quot\;\, -apple-system\, BlinkMacSystemFont\, Roboto\, &quot\;Helvetica Neue&quot\;\, Helvetica\, Tahoma\, Arial\, sans-serif\; background-color: rgb(255\, 255\, 255)\;">Best overall costume\, scariest costume\, funniest costume and best couples/group costume will be announced at 10:30 PM! Don&#39\;t miss out on this fang-tastic event! &#129499\;&#127995\;&zwj\;&#9794\;&#65039\;</p>\n\n<p style="margin: 0px\; padding: 10px 0px 0px\; box-sizing: border-box\; font-size: 16px\; line-height: 1.5rem\; color: rgb(111\, 114\, 135)\; font-family: &quot\;Neue Plak&quot\;\, -apple-system\, BlinkMacSystemFont\, Roboto\, &quot\;Helvetica Neue&quot\;\, Helvetica\, Tahoma\, Arial\, sans-serif\; background-color: rgb(255\, 255\, 255)\;"><br style="box-sizing: border-box\; padding-top: 0px\;" />\nGuests will receive a drink ticket with their purchase of a party ticket!&nbsp\;</p>\n
LOCATION:Oddfellows 526 Second St. Portsmouth\, Oh
UID:e.3589.2968
SEQUENCE:3
DTSTAMP:20260421T204753Z
URL:https://business.portsmouth.org/events/details/costumes-cocktails-2968
END:VEVENT

END:VCALENDAR
