BEGIN:VCALENDAR
VERSION:2.0
PRODID:-//ChamberMaster//Event Calendar 2.0//EN
METHOD:PUBLISH
X-PUBLISHED-TTL:P3D
REFRESH-INTERVAL:P3D
CALSCALE:GREGORIAN
BEGIN:VEVENT
DTSTART:20241015T223000Z
DTEND:20241015T234500Z
X-MICROSOFT-CDO-ALLDAYEVENT:FALSE
SUMMARY:Cracked Not Broken: The Kevin Hines Story
DESCRIPTION:Kevin Hines is an award-winning global speaker\, best-selling author\, documentary filmmaker\, and suicide prevention and mental health advocate who has reached millions with his story of an unlikely survival and his strong will to live. Two years after he was diagnosed with bipolar disorder\, he attempted to take his life by jumping from the Golden Gate Bridge. Join us in hearing his inspirational story.
X-ALT-DESC;FMTTYPE=text/html:Kevin Hines is an award-winning global speaker\, best-selling author\, documentary filmmaker\, and suicide prevention and mental health advocate who has reached millions with his story of an unlikely survival and his strong will to live. Two years after he was diagnosed with bipolar disorder\, he attempted to take his life by jumping from the Golden Gate Bridge. Join us in hearing his inspirational story.
LOCATION:Vern Riffe Center for the Arts - SSU Campus 940 Second St. Portsmouth\, Ohio 45662
UID:e.3589.2930
SEQUENCE:3
DTSTAMP:20260421T204819Z
URL:https://business.portsmouth.org/events/details/cracked-not-broken-the-kevin-hines-story-2930
END:VEVENT

END:VCALENDAR
