BEGIN:VCALENDAR
VERSION:2.0
PRODID:-//ChamberMaster//Event Calendar 2.0//EN
METHOD:PUBLISH
X-PUBLISHED-TTL:P3D
REFRESH-INTERVAL:P3D
CALSCALE:GREGORIAN
BEGIN:VEVENT
DTSTART;VALUE=DATE:20221001
DTEND;VALUE=DATE:20221002
TRANSP:TRANSPARENT
X-MICROSOFT-CDO-ALLDAYEVENT:TRUE
SUMMARY:Cradle Walk for Life
DESCRIPTION:October 1st    Cradle Walk for Life   Walk begins at the Cradle Care Center\, 1112 Gallia Street in Portsmouth.  Register online at www.cradlecc.org at the Cradle Care Center the morning of the event at 8:30 am.  Walk begins at 9 am.  For more information\, contact Christina Minache at 740-354-2273.
X-ALT-DESC;FMTTYPE=text/html:<strong>October 1<sup>st</sup>&nbsp\; &ndash\; Cradle Walk for Life</strong> &ndash\; Walk begins at the Cradle Care Center\, 1112 Gallia Street in Portsmouth.&nbsp\; Register online at www.cradlecc.org at the Cradle Care Center the morning of the event at 8:30 am.&nbsp\; Walk begins at 9 am.&nbsp\; For more information\, contact Christina Minache at 740-354-2273.&nbsp\;
LOCATION:
UID:e.3589.408
SEQUENCE:3
DTSTAMP:20260425T021206Z
URL:https://business.portsmouth.org/events/details/cradle-walk-for-life-408
END:VEVENT

END:VCALENDAR
