BEGIN:VCALENDAR
VERSION:2.0
PRODID:-//ChamberMaster//Event Calendar 2.0//EN
METHOD:PUBLISH
X-PUBLISHED-TTL:P3D
REFRESH-INTERVAL:P3D
CALSCALE:GREGORIAN
BEGIN:VEVENT
DTSTART;VALUE=DATE:20241026
DTEND;VALUE=DATE:20241027
TRANSP:TRANSPARENT
X-MICROSOFT-CDO-ALLDAYEVENT:TRUE
SUMMARY:DAR Application Workshop
DESCRIPTION:DAR application workshop - the Joseph Spencer Chapter will host the application workshop. For Women 18 yrs. and older. regardless of race religion or ethnic background\, who can prove lineal descent from a patriot of the American Revolution is eligible for membership.
X-ALT-DESC;FMTTYPE=text/html:DAR application workshop - the Joseph Spencer Chapter will host the application workshop. For Women 18 yrs. and older. regardless of race religion or ethnic background\, who can prove lineal descent from a patriot of the American Revolution is eligible for membership.
LOCATION:Scioto County Library\, 1220 Gallia St. Portsmouth\, Oh 45662
UID:e.3589.2913
SEQUENCE:3
DTSTAMP:20260421T204245Z
URL:https://business.portsmouth.org/events/details/dar-application-workshop-2913
END:VEVENT

END:VCALENDAR
