BEGIN:VCALENDAR
VERSION:2.0
PRODID:-//ChamberMaster//Event Calendar 2.0//EN
METHOD:PUBLISH
X-PUBLISHED-TTL:P3D
REFRESH-INTERVAL:P3D
CALSCALE:GREGORIAN
BEGIN:VEVENT
DTSTART;VALUE=DATE:20241214
DTEND;VALUE=DATE:20241215
TRANSP:TRANSPARENT
X-MICROSOFT-CDO-ALLDAYEVENT:TRUE
SUMMARY:Dashing Through the Snow 5K Run - 1 mile walk
DESCRIPTION:Music and local treats will be at the Pharmacy parking lot.
X-ALT-DESC;FMTTYPE=text/html:Music and local treats will be at the Pharmacy parking lot.&nbsp\;
LOCATION:Gahm's Pharmacy Lucasville\, Oh
UID:e.3589.3004
SEQUENCE:3
DTSTAMP:20260425T232341Z
URL:https://business.portsmouth.org/events/details/dashing-through-the-snow-5k-run-1-mile-walk-3004
END:VEVENT

END:VCALENDAR
