BEGIN:VCALENDAR
VERSION:2.0
PRODID:-//ChamberMaster//Event Calendar 2.0//EN
METHOD:PUBLISH
X-PUBLISHED-TTL:P3D
REFRESH-INTERVAL:P3D
CALSCALE:GREGORIAN
BEGIN:VEVENT
DTSTART;VALUE=DATE:20240309
DTEND;VALUE=DATE:20240310
TRANSP:TRANSPARENT
X-MICROSOFT-CDO-ALLDAYEVENT:TRUE
SUMMARY:Dreamland Premier
DESCRIPTION:March 9th    Dreamland Film Premier   Another production from John and Nathan Lorentz on the local landmark Dreamland Pool.  The premier will take place at the Vern Riffe Center for the Arts.  Tickets are free and will be available at the McKinley Box Office at the Vern Riffe Center for the Arts. Please Call 740-351-3600 or online at info@vrcfa.com
X-ALT-DESC;FMTTYPE=text/html:<span style="font-size:24px\;"><strong>March 9th&nbsp\; &ndash\; Dreamland Film Premier &ndash\; </strong>Another production from John and Nathan Lorentz on the local landmark Dreamland Pool.&nbsp\; The premier will take place at the Vern Riffe Center for the Arts.&nbsp\; Tickets are free and will be available at the McKinley Box Office at the Vern Riffe Center for the Arts. Please Call 740-351-3600 or online at info@vrcfa.com&nbsp\;</span>
LOCATION:
UID:e.3589.691
SEQUENCE:3
DTSTAMP:20260425T113807Z
URL:https://business.portsmouth.org/events/details/dreamland-premier-691
END:VEVENT

END:VCALENDAR
