BEGIN:VCALENDAR
VERSION:2.0
PRODID:-//ChamberMaster//Event Calendar 2.0//EN
METHOD:PUBLISH
X-PUBLISHED-TTL:P3D
REFRESH-INTERVAL:P3D
CALSCALE:GREGORIAN
BEGIN:VEVENT
DTSTART;VALUE=DATE:20200424
DTEND;VALUE=DATE:20200427
TRANSP:TRANSPARENT
X-MICROSOFT-CDO-ALLDAYEVENT:TRUE
SUMMARY:Duckworth True Lure Trout Derby
DESCRIPTION:The Duckworth True Lure Trout Derby for Children with Disabilities and Disabled Vets -  No fishing license required for any individual with disabilities at the event.
X-ALT-DESC;FMTTYPE=text/html:<strong>The Duckworth True Lure Trout Derby for Children with Disabilities and Disabled Vets -</strong>&nbsp\; No fishing license required for any individual with disabilities at the event.&nbsp\;&nbsp\;
LOCATION:Roosevelt Lake\, West Portsmouth
UID:e.3589.32
SEQUENCE:3
DTSTAMP:20260422T122644Z
URL:https://business.portsmouth.org/events/details/duckworth-true-lure-trout-derby-32
END:VEVENT

END:VCALENDAR
