BEGIN:VCALENDAR
VERSION:2.0
PRODID:-//ChamberMaster//Event Calendar 2.0//EN
METHOD:PUBLISH
X-PUBLISHED-TTL:P3D
REFRESH-INTERVAL:P3D
CALSCALE:GREGORIAN
BEGIN:VEVENT
DTSTART:20210410T190000Z
DTEND:20210411T010000Z
X-MICROSOFT-CDO-ALLDAYEVENT:FALSE
SUMMARY:Easter Cave
DESCRIPTION:The First Annual Easter Cave\n\nCome "Walk in the footsteps of Jesus" in our amazing underground venue.\n\nOpen three weekends:\n\nMarch 26-28\n\nApril 2-3 (closed Easter Sunday)\n\nApril 9-11\n\nFriday and Saturdays 3:00-9:00\n\nSundays 1:00-4:00\n\nNo reservations needed\, free admission (although donations are appreciated)\n\n4007 White Gravel McDaniel Road\, Minford\, OH 45653. For info see FB: White Gravel Mines.\n\nAll Covid-19 guidelines recognized. Masks required.\n\nWe are sorry but we are not handicapped accessible due to natural gravel terrain and hill to our entrance.
X-ALT-DESC;FMTTYPE=text/html:<h2 _ngcontent-pqo-c40="" class="mat-h2" style="font-variant-numeric: normal\; font-variant-east-asian: normal\; font-stretch: normal\; font-size: 28px\; line-height: 32px\; font-family: Roboto\, &quot\;Helvetica Neue&quot\;\, sans-serif\; margin: 0px 0px 16px\; color: rgba(0\, 0\, 0\, 0.87)\; background-color: rgb(246\, 246\, 246)\;">The First Annual Easter Cave</h2>\n\n<p _ngcontent-pqo-c40="" class="mat-p align-center" style="font-size: 18px\; width: 400px\; text-align: center\; padding: 2px\; color: rgba(0\, 0\, 0\, 0.87)\; font-family: Helvetica\, Arial\, sans-serif\; background-color: rgb(246\, 246\, 246)\;"><b _ngcontent-pqo-c40="">Come &ldquo\;Walk in the footsteps of Jesus&rdquo\; in our amazing underground venue.</b></p>\n\n<p _ngcontent-pqo-c40="" class="mat-p" style="font-size: 18px\; width: 400px\; color: rgba(0\, 0\, 0\, 0.87)\; font-family: Helvetica\, Arial\, sans-serif\; background-color: rgb(246\, 246\, 246)\;">Open three weekends:<br _ngcontent-pqo-c40="" />\nMarch 26-28<br _ngcontent-pqo-c40="" />\nApril 2-3 (closed Easter Sunday)<br _ngcontent-pqo-c40="" />\nApril 9-11<br _ngcontent-pqo-c40="" />\nFriday and Saturdays 3:00-9:00<br _ngcontent-pqo-c40="" />\nSundays 1:00-4:00</p>\n\n<p _ngcontent-pqo-c40="" class="mat-p small-text" style="font-size: 12px\; width: 400px\; color: rgba(0\, 0\, 0\, 0.87)\; font-family: Helvetica\, Arial\, sans-serif\; background-color: rgb(246\, 246\, 246)\;">No reservations needed\, free admission (although donations are appreciated)</p>\n\n<p _ngcontent-pqo-c40="" class="mat-p small-text" style="font-size: 12px\; width: 400px\; color: rgba(0\, 0\, 0\, 0.87)\; font-family: Helvetica\, Arial\, sans-serif\; background-color: rgb(246\, 246\, 246)\;">4007 White Gravel McDaniel Road\, Minford\, OH 45653. For info see FB: White Gravel Mines.</p>\n\n<p _ngcontent-pqo-c40="" class="mat-p small-text" style="font-size: 12px\; width: 400px\; color: rgba(0\, 0\, 0\, 0.87)\; font-family: Helvetica\, Arial\, sans-serif\; background-color: rgb(246\, 246\, 246)\;">All Covid-19 guidelines recognized. Masks required.</p>\n\n<p _ngcontent-pqo-c40="" class="mat-p small-text" style="font-size: 12px\; width: 400px\; color: rgba(0\, 0\, 0\, 0.87)\; font-family: Helvetica\, Arial\, sans-serif\; background-color: rgb(246\, 246\, 246)\;">We are sorry but we are not handicapped accessible due to natural gravel terrain and hill to our entrance.</p>\n
LOCATION:
UID:e.3589.170
SEQUENCE:3
DTSTAMP:20260419T223731Z
URL:https://business.portsmouth.org/events/details/easter-cave-170
END:VEVENT

END:VCALENDAR
