BEGIN:VCALENDAR
VERSION:2.0
PRODID:-//ChamberMaster//Event Calendar 2.0//EN
METHOD:PUBLISH
X-PUBLISHED-TTL:P3D
REFRESH-INTERVAL:P3D
CALSCALE:GREGORIAN
BEGIN:VEVENT
DTSTART:20210404T110000Z
DTEND:20210404T120000Z
X-MICROSOFT-CDO-ALLDAYEVENT:FALSE
SUMMARY:Easter Sunrise Service
DESCRIPTION:Sunrise Service at Greenlawn Cemetery.  Join the Friends of Greenlawn Cemetery at 7 am for a nondenominational sunrise service led by Rev. John Gowdy. The service will take place in or outside of the Greenlawn Cemetery Chapel.  The services will also be live streamed on Facebook.  Mask will be required for those attending in person.
X-ALT-DESC;FMTTYPE=text/html:<strong>Sunrise Service at Greenlawn Cemetery. </strong>&nbsp\;Join the Friends of Greenlawn Cemetery at 7 am for a nondenominational sunrise service led by Rev. John Gowdy. The service will take place in or outside of the Greenlawn Cemetery Chapel.&nbsp\; The services will also be live streamed on Facebook.&nbsp\; Mask will be required for those attending in person.&nbsp\;
LOCATION:Greenlawn Cemetery
UID:e.3589.134
SEQUENCE:3
DTSTAMP:20260419T224134Z
URL:https://business.portsmouth.org/events/details/easter-sunrise-service-134
END:VEVENT

END:VCALENDAR
