BEGIN:VCALENDAR
VERSION:2.0
PRODID:-//ChamberMaster//Event Calendar 2.0//EN
METHOD:PUBLISH
X-PUBLISHED-TTL:P3D
REFRESH-INTERVAL:P3D
CALSCALE:GREGORIAN
BEGIN:VEVENT
DTSTART;VALUE=DATE:20241029
DTEND;VALUE=DATE:20241030
TRANSP:TRANSPARENT
X-MICROSOFT-CDO-ALLDAYEVENT:TRUE
SUMMARY:EDCI - Murder Mystery Suspect Social
DESCRIPTION:Women's Networking - Murder Mystery - Food\, drinks\, costumes and games.
X-ALT-DESC;FMTTYPE=text/html:Women&#39\;s Networking - Murder Mystery - Food\, drinks\, costumes and games.
LOCATION:Oddfellows 526 2nd St. Portsmouth\, Oh 45662
UID:e.3589.2951
SEQUENCE:3
DTSTAMP:20260421T204719Z
URL:https://business.portsmouth.org/events/details/edci-murder-mystery-suspect-social-2951
END:VEVENT

END:VCALENDAR
