BEGIN:VCALENDAR
VERSION:2.0
PRODID:-//ChamberMaster//Event Calendar 2.0//EN
METHOD:PUBLISH
X-PUBLISHED-TTL:P3D
REFRESH-INTERVAL:P3D
CALSCALE:GREGORIAN
BEGIN:VEVENT
DTSTART;VALUE=DATE:20200208
DTEND;VALUE=DATE:20200209
TRANSP:TRANSPARENT
X-MICROSOFT-CDO-ALLDAYEVENT:TRUE
SUMMARY:Ellen Vetter Chocolate Walk
DESCRIPTION:Starting at Port City Pub.  Participants stroll through the Portsmouth area getting chocolate as  you go.
X-ALT-DESC;FMTTYPE=text/html:<strong>S</strong>tarting at Port City Pub.&nbsp\; Participants stroll through the Portsmouth area getting chocolate as&nbsp\; you go.&nbsp\;&nbsp\;
LOCATION:Starts at the Port City Pub\, Chillicothe Street\, downtown Portsmouth
UID:e.3589.5
SEQUENCE:3
DTSTAMP:20260422T162749Z
URL:https://business.portsmouth.org/events/details/ellen-vetter-chocolate-walk-5
END:VEVENT

END:VCALENDAR
