BEGIN:VCALENDAR
VERSION:2.0
PRODID:-//ChamberMaster//Event Calendar 2.0//EN
METHOD:PUBLISH
X-PUBLISHED-TTL:P3D
REFRESH-INTERVAL:P3D
CALSCALE:GREGORIAN
BEGIN:VEVENT
DTSTART:20240210T160000Z
DTEND:20240210T210000Z
X-MICROSOFT-CDO-ALLDAYEVENT:FALSE
SUMMARY:Ellen Vetter Memorial Chocolate Walk
DESCRIPTION:Enjoy this Valentine's Day tradition by taking a stroll through Downtown Portsmouth to visit over 30 locations offering a variety of chocolate treats.\n\n \n\nEllen Vetter Memorial Chocolate Walk Tickets are available for purchase at Ghosts In The Attic Antique Mall\, Morgan Brothers Jewelers\, and the Scioto County Welcome Center Gift Shop. Tickets may be purchased online at the following link: https://donorbox.org/events/535250\n\n \n\nThe 2024 Ellen Vetter Memorial Chocolate Walk will be held from 11:00am to 4:00pm on Saturday\, February 10. The Walk begins at Port City Pub\, located at 424 Chillicothe Street\, where Ticket Holders will receive a Chocolate Walk Map\, a Bag for Chocolates\, and a Chocolate Walk Passport.\n\n \n\nPlease note that Ticket Holders are required to Check In at Port City Pub by 1:00pm on February 10. Any unclaimed tickets will be re-sold.\n\n \n\nEach Venue on the Walk will stamp Passports\, and completed Chocolate Walk Passports may be turned in for entry into a Prize Drawing. Stamps from locations which close early are NOT required to complete the Passport.\n\n \n\nJoin us at dozens of walking and driving Stops eager to spread the love of Portsmouth\, Ohio!
X-ALT-DESC;FMTTYPE=text/html:<div>Enjoy this Valentine&#39\;s Day tradition by taking a stroll through Downtown Portsmouth to visit over 30 locations offering a variety of chocolate treats.<br />\n&nbsp\;</div>\n\n<div>Ellen Vetter Memorial Chocolate Walk Tickets are available for purchase at Ghosts In The Attic Antique Mall\, Morgan Brothers Jewelers\, and the Scioto County Welcome Center Gift Shop. Tickets may be purchased online at the following link:&nbsp\;<a class="x1i10hfl xjbqb8w x6umtig x1b1mbwd xaqea5y xav7gou x9f619 x1ypdohk xt0psk2 xe8uvvx xdj266r x11i5rnm xat24cr x1mh8g0r xexx8yu x4uap5 x18d9i69 xkhd6sd x16tdsg8 x1hl2dhg xggy1nq x1a2a7pz xt0b8zv x1fey0fg" href="https://l.facebook.com/l.php?u=https%3A%2F%2Fdonorbox.org%2Fevents%2F535250%3Ffbclid%3DIwAR0CU-WlMNM4AkDc5s4l_nLRmDF89LsWa5IsAgCLx9-TVw5j14pkN0jaDUc&amp\;h=AT1Y-woLps0-XJPeRL-cooECBvgg5pB3PDY7dWUlQeQ34RYJ0ffet6QxWr5Ic_P48zCm7mD1S05Rqi1aqDsV_siAZ2zj7sPbtQcBhv-pV2lCeYxqmM6N06kk_t0DUs8K3DlWFpet4g&amp\;__tn__=q&amp\;c[0]=AT2PUqw79gtifJ1Ptsbyr93HQ8OgwEjPY4PjC2sBQjYK7Wwo1d7wHG1GI_nMu3lExWzhPWc7ksoy1grCY6TlGyqC88QoG4Le83jRkHqsuUjR6BbzCDDfTDMFeaJCQzBAggVk8Hee-k7uMJAgAcsWio-jzhC7" rel="nofollow noreferrer" style="color: var(--blue-link)\; cursor: pointer\; text-decoration-line: none\; outline: none\; border-width: 0px\; border-style: initial\; border-color: initial\; list-style: none\; margin: 0px\; text-align: inherit\; padding: 0px\; box-sizing: border-box\; background-color: transparent\; -webkit-tap-highlight-color: transparent\; touch-action: manipulation\; display: inline\; font-family: inherit\;" tabindex="0" target="_blank">https://donorbox.org/events/535250</a><br />\n&nbsp\;</div>\n\n<div>The 2024 Ellen Vetter Memorial Chocolate Walk will be held from 11:00am to 4:00pm on Saturday\, February 10. The Walk begins at Port City Pub\, located at 424 Chillicothe Street\, where Ticket Holders will receive a Chocolate Walk Map\, a Bag for Chocolates\, and a Chocolate Walk Passport.<br />\n&nbsp\;</div>\n\n<div>Please note that Ticket Holders are required to Check In at Port City Pub by 1:00pm on February 10. Any unclaimed tickets will be re-sold.<br />\n&nbsp\;</div>\n\n<div>Each Venue on the Walk will stamp Passports\, and completed Chocolate Walk Passports may be turned in for entry into a Prize Drawing. Stamps from locations which close early are NOT required to complete the Passport.<br />\n&nbsp\;</div>\n\n<div>Join us at dozens of walking and driving Stops eager to spread the love of Portsmouth\, Ohio!</div>\n
LOCATION:The Ellen Vetter Memorial Chocolate Walk starts at the Port City Pub\, located at 424 Chillicothe Street in Portsmouth\, Ohio.
UID:e.3589.2208
SEQUENCE:3
DTSTAMP:20260425T103209Z
URL:https://business.portsmouth.org/events/details/ellen-vetter-memorial-chocolate-walk-02-10-2024-2208
END:VEVENT

END:VCALENDAR
