BEGIN:VCALENDAR
VERSION:2.0
PRODID:-//ChamberMaster//Event Calendar 2.0//EN
METHOD:PUBLISH
X-PUBLISHED-TTL:P3D
REFRESH-INTERVAL:P3D
CALSCALE:GREGORIAN
BEGIN:VEVENT
DTSTART:20210729T220000Z
DTEND:20210730T000000Z
X-MICROSOFT-CDO-ALLDAYEVENT:FALSE
SUMMARY:Fairy Tales Live
DESCRIPTION:July 29th - Storybook Fairy Tales Live/Storybook Tales and Treasures at Mound Park. Bring your family out to see and hear as the children from summer outreach and Rhythm Arts and Drama bring to you a presentation like you've never seen. Event starts at 6 pm.
X-ALT-DESC;FMTTYPE=text/html:<span style="font-size:22px\;"><strong>July 29<sup>th</sup> - Storybook Fairy Tales Live/Storybook Tales and Treasures at Mound Park. </strong>Bring your family out to see and hear as the children from summer outreach and Rhythm Arts and Drama bring to you a presentation like you&rsquo\;ve never seen. Event starts at 6 pm.</span>
LOCATION:
UID:e.3589.253
SEQUENCE:3
DTSTAMP:20260419T174828Z
URL:https://business.portsmouth.org/events/details/fairy-tales-live-253
END:VEVENT

END:VCALENDAR
